Workbook
Name FORMULAS: #REF!
Name FORMULAS: #REF!
Name FORMULAS: #REF!
Name FORMULAS: #REF!
Name FORMULAS: #REF!
Name FORMULAS: #REF!
Name FORMULAS: #REF!
Name FORMULAS: #REF!
Name FORMULAS: #REF!
Name FORMULAS: #REF!
Name FORMULAS: #REF!
Name FORMULAS: #REF!
Name FORMULAS: #REF!
Name FORMULAS: #REF!
Name FORMULAS: #REF!
Name FORMULAS: #REF!
Name FORMULAS: #REF!
Name FORMULAS: #REF!
Name FORMULAS: #REF!
Name FORMULAS: #REF!
Name FORMULAS: #REF!
Name FORMULAS: #REF!
Name un: #REF!
Name un: #REF!
Name un: #REF!
Name un: #REF!
Name un: #REF!
Name un: #REF!
Name un: #REF!
Name un: #REF!
Name un: #REF!
Name un: #REF!
Name un: #REF!
Name un: #REF!
Name un: #REF!
Name un: #REF!
Name un: #REF!
Name un: #REF!
Name un: #REF!
Name un: #REF!
Name un: #REF!
Name un: #REF!

Sheet BDI-SERVIÇOS
B1: BDI - Bonificação e Despesas Indiretas - SERVIÇOS
B2: COM DESONERAÇÃO
B4: Informe a base de cálculo do ISSQN.
B5: Alíquota do município | C5: 0.03
B7: Ocorrência da DESONERAÇÃO da folha de pagamento. Lei 12844/2013.
B10: Item Componente do BDI | C10: Valores Propostos
B11: Administração Central | C11: 0.0402
B12: Seguro e Garantia | C12: 0.0042
B13: Risco | C13: 0.0118
B14: Despesas Financeiras | C14: 0.0085
B15: Lucro | C15: 0.0642
B16: I1: PIS(0,65%) e COFINS(3,00%) | C16: 0.0365
B17: I2: ISSQN (conforme legislação municipal) | C17: =C5 -> 0.03
B18: I3: Cont.Prev s/Rec.Bruta (Lei 12844/13 - Desoneração) | C18: 0.045
F19: =((1+C11+C12+C13)*(1+C14)*(1+C15)/(1-C16-C17-C18))-1 -> 0.27581554
B20: BDI - COM Desoneração da folha de pagamento | C20: 0.2758
B23: Planilha elaborada conforme equação para cálculo do percentual do BDI recomendada pelo Acórdão 2622/2013 - TCU, representada pela fórmula abaixo, levando em consideração o valor do ISSQN local.
B25: BDI - COM Desoneração = [(1+AC+S+G+R)X(1+DF)X(1+L)/(1-I1-I2-I3)]-1
B27: OBS.:
B28: Os valores e percentagens devem ser atualizados conforme legislação vigente

Sheet BDI-MATERIAIS
B1: BDI - Bonificação e Despesas Indiretas - MATERIAIS
B2: COM DESONERAÇÃO
B4: Informe a base de cálculo do ISSQN.
B5: Alíquota do município | C5: 0
B7: Ocorrência da DESONERAÇÃO da folha de pagamento. Lei 12844/2013.
B11: Item Componente do BDI | C11: Valores Propostos
B12: Administração Central | C12: 0.0255
B13: Seguro e Garantia | C13: 0.0036
B14: Risco | C14: 0.0063
B15: Despesas Financeiras | C15: 0.0063
B16: Lucro | C16: 0.03775
B17: I1: PIS(0,65%) e COFINS(3,00%) | C17: 0.0365
B18: I2: ISSQN (conforme legislação municipal) | C18: =C5 -> 0
B19: I3: Cont.Prev s/Rec.Bruta (Lei 12844/13 - Desoneração) | C19: 0.045 | G19: =((1+C12+C13+C14)*(1+C15)*(1+C16)/(1-C17-C18-C19))-1 -> 0.17719718
B21: BDI - COM Desoneração da folha de pagamento | C21: 0.1772
B24: Planilha elaborada conforme equação para cálculo do percentual do BDI recomendada pelo Acórdão 2622/2013 - TCU, representada pela fórmula abaixo.
B26: BDI - COM Desoneração = [(1+AC+S+G+R)X(1+DF)X(1+L)/(1-I1-I2-I3)]-1
B29: OBS.:
B30: Os valores e percentagens devem ser atualizados conforme legislação vigente

Sheet RESUMO
A2: SISTEMA DE ORÇAMENTO DE OBRAS
C4: Mun./Loc.: | D4: SÃO JOSÉ DAS PALMEIRAS | F4: Data: | G4: =TODAY() -> 43657 | H4: BDI Aplicado
A5: Relatório Por U.C. | C5: Obra: | D5: SISTEMA DE ESGOTAMENTO SANITARIO - SES | F5: Nº Área: | H5: Serviços | I5: ='BDI-SERVIÇOS'!C20 -> 0.2758
C6: Recurso: | F6: Nº USAQ: | H6: Serv Terc: | I6: =I7 -> 0.1772
C7: Área Resp.: | D7: FUNASA | F7: Referência: | G7: Jun18 MOS4aEd v00 | H7: Mat/Equip: | I7: ='BDI-MATERIAIS'!C21 -> 0.1772
B8: Descrição | F8: Mão de Obra | G8: Materiais | H8: Total (R$) | I8: %
A10: U.C. : 01 | B10: CANTEIRO DE OBRAS | F10: ='01'!K35 -> 53364.759 | G10: ='01'!M35 -> 17250.193 | H10: ='01'!N35 -> 70614.952 | I10: =H10/$H$95 -> 0.0097514472 | J10: <=4% | L10: =I10+I11+I12 -> 0.035386196 | M10: 0.0764 | N10: valor proposto
A11: U.C. : 02 | B11: PLACA DE OBRA | F11: ='02'!K19 -> 734.04 | G11: ='02'!M19 -> 3129.48 | H11: ='02'!N19 -> 3863.52 | I11: =H11/$H$95 -> 0.00053352598
A12: U.C. : 03 | B12: ADMINISTRAÇÃO LOCAL DA OBRA | H12: ='03'!J40 -> 181770.12 | I12: =H12/$H$95 -> 0.025101223 | J12: <=5%
A14: U.C. : 04 | B14: REDE COLETORA DE ESGOTOS | H14: =H15+H16 -> 2189044.8 | I14: =H14/$H$95 -> 0.30229228
A15: 1 | B15: REDE COLETORA - SERVIÇOS | F15: ='04'!K192 -> 945983.22 | G15: ='04'!M192 -> 328418.3 | H15: ='04'!N192 -> 1274401.5 | I15: =H15/$H$14 -> 0.58217243
A16: 2 | B16: REDE COLETORA - MATERIAIS | G16: ='05'!M50 -> 914643.28 | H16: ='05'!N50 -> 914643.28 | I16: =H16/$H$14 -> 0.41782757
A17: U.C. : 05 | B17: LIGAÇÕES PREDIAIS | H17: =H18+H19 -> 222814.32 | I17: =H17/$H$95 -> 0.030769151
A18: 1 | B18: LIGAÇÕES PREDIAIS - SERVIÇOS | F18: ='06'!K104 -> 41848.244 | G18: ='06'!M104 -> 10746.532 | H18: ='06'!N104 -> 52594.776 | I18: =H18/$H$17 -> 0.23604755
A19: 2 | B19: LIGAÇÕES PREDIAIS - MATERIAIS | G19: ='07'!M45 -> 170219.55 | H19: ='07'!N45 -> 170219.55 | I19: =H19/$H$17 -> 0.76395245
A20: U.C. : 06 | B20: COLETOR 01 | H20: =H21+H22 -> 163543.2 | I20: =H20/$H$95 -> 0.02258421
A21: 1 | B21: COLETOR 01 - SERVIÇOS | F21: ='08 - 1'!K120 -> 82174.307 | G21: ='08 - 1'!M120 -> 24301.556 | H21: ='08 - 1'!N120 -> 106475.86 | I21: =H21/$H$20 -> 0.65105649
A22: 2 | B22: COLETOR 01 - MATERIAIS | G22: ='09 - 1'!M31 -> 57067.34 | H22: ='09 - 1'!N31 -> 57067.34 | I22: =H22/$H$20 -> 0.34894351
A23: U.C. : 07 | B23: COLETOR 02 | H23: =H24+H25 -> 20740.289 | I23: =H23/$H$95 -> 0.0028640936
A24: 1 | B24: COLETOR 02 - SERVIÇOS | F24: ='08 - 2'!K120 -> 10989.41 | G24: ='08 - 2'!M120 -> 4191.8157 | H24: ='08 - 2'!N120 -> 15181.226 | I24: =H24/$H$23 -> 0.73196789
A25: 2 | B25: COLETOR 02 - MATERIAIS | G25: ='09 - 2'!M31 -> 5559.0634 | H25: ='09 - 2'!N31 -> 5559.0634 | I25: =H25/$H$23 -> 0.26803211
A26: U.C. : 08 | B26: COLETOR 03 | H26: =H27+H28 -> 148912.72 | I26: =H26/$H$95 -> 0.020563839
A27: 1 | B27: COLETOR 03 - SERVIÇOS | F27: ='08 - 3'!K120 -> 81969.32 | G27: ='08 - 3'!M120 -> 22209.945 | H27: ='08 - 3'!N120 -> 104179.26 | I27: =H27/$H$26 -> 0.69959951
A28: 2 | B28: COLETOR 03 - MATERIAIS | G28: ='09 - 3'!M31 -> 44733.454 | H28: ='09 - 3'!N31 -> 44733.454 | I28: =H28/$H$26 -> 0.30040049
A29: U.C. : 09 | B29: COLETOR 04 | H29: =H30+H31 -> 296588.4 | I29: =H29/$H$95 -> 0.040956852
A30: 1 | B30: COLETOR 04 - SERVIÇOS | F30: ='08 - 4'!$K$120 -> 168161.46 | G30: ='08 - 4'!$M$120 -> 44086.698 | H30: ='08 - 4'!$N$120 -> 212248.16 | I30: =H30/$H$29 -> 0.71563202
A31: 2 | B31: COLETOR 04 - MATERIAIS | G31: ='09 - 4'!$M$31 -> 84340.245 | H31: ='09 - 4'!$N$31 -> 84340.245 | I31: =H31/$H$29 -> 0.28436798
A32: U.C. : 10 | B32: COLETOR 05 | H32: =H33+H34 -> 25137.013 | I32: =H32/$H$95 -> 0.0034712514
A33: 1 | B33: COLETOR 05 - SERVIÇOS | F33: ='08 - 5'!$K$120 -> 12113.718 | G33: ='08 - 5'!$M$120 -> 4029.3621 | H33: ='08 - 5'!$N$120 -> 16143.08 | I33: =H33/$H$29 -> 0.054429234
A34: 2 | B34: COLETOR 05 - MATERIAIS | G34: ='09 - 5'!$M$31 -> 8993.9331 | H34: ='09 - 5'!$N$31 -> 8993.9331 | I34: =H34/$H$29 -> 0.030324628
A35: U.C. : 09 | B35: COLETOR 06 | H35: =H36+H37 -> 0 | I35: =H35/$H$95 -> 0
A36: 1 | B36: COLETOR 06 - SERVIÇOS | F36: ='08 - 6'!$K$120 -> 0 | G36: ='08 - 6'!$M$120 -> 0 | H36: ='08 - 6'!$N$120 -> 0 | I36: =H36/$H$29 -> 0
A37: 2 | B37: COLETOR 06 - MATERIAIS | G37: ='09 - 6'!$M$31 -> 0 | H37: ='09 - 6'!$N$31 -> 0 | I37: =H37/$H$29 -> 0
A38: U.C. : 09 | B38: COLETOR 07 | H38: =H39+H40 -> 0 | I38: =H38/$H$95 -> 0
A39: 1 | B39: COLETOR 07 - SERVIÇOS | F39: ='08 - 7'!$K$120 -> 0 | G39: ='08 - 7'!$M$120 -> 0 | H39: ='08 - 7'!$N$120 -> 0 | I39: =H39/$H$29 -> 0
A40: 2 | B40: COLETOR 07 - MATERIAIS | G40: ='09 - 7'!$M$31 -> 0 | H40: ='09 - 7'!$N$31 -> 0 | I40: =H40/$H$29 -> 0
A41: U.C. : 11 | B41: INTERCEPTOR | H41: =H42+H43 -> 464197.81 | I41: =H41/$H$95 -> 0.064102577
A42: 1 | B42: INTERCEPTOR - SERVIÇOS | F42: ='08 - INT'!K120 -> 214943.22 | G42: ='08 - INT'!M120 -> 67947.885 | H42: ='08 - INT'!N120 -> 282891.11 | I42: =H42/$H$41 -> 0.60941931
A43: 2 | B43: INTERCEPTOR - MATERIAIS | G43: ='09 - INT'!M31 -> 181306.7 | H43: ='09 - INT'!N31 -> 181306.7 | I43: =H43/$H$41 -> 0.39058069
A44: U.C. : 12 | B44: EMISSÁRIO | H44: =H45+H46 -> 27733.88 | I44: =H44/$H$95 -> 0.0038298613
...

Sheet CRONOGRAMA
B3: CRONOGRAMA FINANCEIRO | E3: MUNICÍPIO: | F3: =RESUMO!D4 -> SÃO JOSÉ DAS PALMEIRAS | O3: CONTRATO/OS:
E4: OBRA | F4: SISTEMA DE ESGOTAMENTO SANITÁRIO - SES | O4: DATA | P4: =RESUMO!G4 -> 43657
C5: UNIDADES CONSTRUTIVAS | D5: TOTAIS | E5: Meses | X5: TOTAIS ACUMULADOS
F6: 1 | G6: 2 | H6: 3 | I6: 4 | J6: 5 | K6: 6 | L6: 7 | M6: 8 | N6: 9 | O6: 10 | P6: 11 | Q6: 12 | R6: 13 | S6: 14 | T6: 15 | U6: 16 | V6: 17 | W6: 18
B8: 1 | C8: =RESUMO!B10 -> CANTEIRO DE OBRAS
D9: =RESUMO!H10 -> 70614.952 | E9: R$ | F9: =$D$9 -> 70614.952 | X9: =SUM(F9:W9) -> 70614.952
E10: % | F10: 100 | X10: =SUM(F10:W10) -> 100
B11: 2 | C11: =RESUMO!B11 -> PLACA DE OBRA | X11: =SUM(F11:W11) -> 0
D12: =RESUMO!H11 -> 3863.52 | E12: =E9 -> R$ | F12: =D12 -> 3863.52 | X12: =SUM(F12:W12) -> 3863.52
E13: % | F13: 100 | X13: =SUM(F13:W13) -> 100
B14: 3 | C14: =RESUMO!B12 -> ADMINISTRAÇÃO LOCAL DA OBRA | X14: =SUM(F14:W14) -> 0
D15: =RESUMO!H12 -> 181770.12 | E15: =E9 -> R$ | F15: =$D$15/12 -> 15147.51 | G15: =$D$15/12 -> 15147.51 | H15: =$D$15/12 -> 15147.51 | I15: =$D$15/12 -> 15147.51 | J15: =$D$15/12 -> 15147.51 | K15: =$D$15/12 -> 15147.51 | L15: =$D$15/12 -> 15147.51 | M15: =$D$15/12 -> 15147.51 | ... Q15: =$D$15/12 -> 15147.51 | X15: =SUM(F15:W15) -> 181770.12
E16: % | F16: =100/12 -> 8.3333333 | G16: =100/12 -> 8.3333333 | H16: =100/12 -> 8.3333333 | I16: =100/12 -> 8.3333333 | J16: =100/12 -> 8.3333333 | K16: =100/12 -> 8.3333333 | L16: =100/12 -> 8.3333333 | M16: =100/12 -> 8.3333333 | ... Q16: =100/12 -> 8.3333333 | X16: =SUM(F16:W16) -> 100
B17: 4 | C17: =RESUMO!B14 -> REDE COLETORA DE ESGOTOS | X17: =SUM(F17:W17) -> 0
D18: =RESUMO!H14 -> 2189044.8 | E18: =E15 -> R$ | K18: =$D$18/5 -> 437808.96 | L18: =$D$18/5 -> 437808.96 | M18: =$D$18/5 -> 437808.96 | N18: =$D$18/5 -> 437808.96 | O18: =$D$18/5 -> 437808.96 | X18: =SUM(F18:W18) -> 2189044.8
E19: % | K19: =100/5 -> 20 | L19: =100/5 -> 20 | M19: =100/5 -> 20 | N19: =100/5 -> 20 | O19: =100/5 -> 20 | X19: =SUM(F19:W19) -> 100
B20: 5 | C20: =RESUMO!B17 -> LIGAÇÕES PREDIAIS | X20: =SUM(F20:W20) -> 0
D21: =RESUMO!H17 -> 222814.32 | E21: =E18 -> R$ | K21: =$D$21/5 -> 44562.865 | L21: =$D$21/5 -> 44562.865 | M21: =$D$21/5 -> 44562.865 | N21: =$D$21/5 -> 44562.865 | O21: =$D$21/5 -> 44562.865 | X21: =SUM(F21:W21) -> 222814.32
E22: % | K22: =100/5 -> 20 | L22: =100/5 -> 20 | M22: =100/5 -> 20 | N22: =100/5 -> 20 | O22: =100/5 -> 20 | X22: =SUM(F22:W22) -> 100
B23: 6 | C23: =RESUMO!B20 -> COLETOR 01 | X23: =SUM(F23:W23) -> 0
D24: =RESUMO!H20 -> 163543.2 | E24: =E21 -> R$ | H24: =$D$24 -> 163543.2 | X24: =SUM(F24:W24) -> 163543.2
E25: % | H25: =100 -> 100 | X25: =SUM(F25:W25) -> 100
B26: 7 | C26: =RESUMO!B23 -> COLETOR 02 | X26: =SUM(F26:W26) -> 0
D27: =RESUMO!H23 -> 20740.289 | E27: =E24 -> R$ | I27: =$D$27 -> 20740.289 | X27: =SUM(F27:W27) -> 20740.289
E28: % | I28: 100 | X28: =SUM(F28:W28) -> 100
B29: 8 | C29: =RESUMO!B26 -> COLETOR 03 | X29: =SUM(F29:W29) -> 0
D30: =RESUMO!H26 -> 148912.72 | E30: =E27 -> R$ | J30: =$D$30 -> 148912.72 | X30: =SUM(F30:W30) -> 148912.72
E31: % | J31: =100 -> 100 | X31: =SUM(F31:W31) -> 100
B32: 9 | C32: COLETOR 04 | X32: =SUM(F32:W32) -> 0
D33: =RESUMO!H29 -> 296588.4 | E33: =E30 -> R$ | H33: =$D$33/2 -> 148294.2 | I33: =$D$33/2 -> 148294.2 | X33: =SUM(F33:W33) -> 296588.4
E34: =E31 -> % | H34: =100/2 -> 50 | I34: =100/2 -> 50 | X34: =SUM(F34:W34) -> 100
B35: 10 | C35: COLETOR 05 | X35: =SUM(F35:W35) -> 0
D36: =RESUMO!H32 -> 25137.013 | E36: =E33 -> R$ | I36: =$D$36 -> 25137.013 | X36: =SUM(F36:W36) -> 25137.013
E37: =E34 -> % | I37: =100 -> 100 | X37: =SUM(F37:W37) -> 100
B38: 8 | C38: COLETOR 07 | X38: =SUM(F38:W38) -> 0
X39: =SUM(F39:W39) -> 0
X40: =SUM(F40:W40) -> 0
B41: 9 | X41: =SUM(F41:W41) -> 0
E42: =E27 -> R$ | X42: =SUM(F42:W42) -> 0
E43: =E31 -> % | X43: =SUM(F43:W43) -> 0
...

Sheet 01
A2: SISTEMA DE ORÇAMENTO DE OBRAS
C4: Mun./Loc.: | D4: =RESUMO!D4 -> SÃO JOSÉ DAS PALMEIRAS | G4: Data: | M4: =RESUMO!G4 -> 43657 | N4: =RESUMO!H4 -> BDI Aplicado
A5: Relatório Por U.C. | C5: Obra: | D5: =RESUMO!D5 -> SISTEMA DE ESGOTAMENTO SANITARIO - SES | G5: Nº Área: | N5: =RESUMO!H5 -> Serviços | O5: =RESUMO!I5 -> 0.2758
C6: Área Resp.: | G6: Nº USAQ: | N6: =RESUMO!H6 -> Serv Terc: | O6: =RESUMO!I6 -> 0.1772
C7: Nº U.C.: | D7: =A11 -> U.C. : 01 | G7: Referência: | M7: =RESUMO!G7 -> Jun18 MOS4aEd v00 | N7: =RESUMO!H7 -> Mat/Equip: | O7: =RESUMO!I7 -> 0.1772
C8: Ud. Const.: | D8: =B11 -> CANTEIRO DE OBRAS
B9: Descrição | G9: Ud | H9: Qtde. | I9: Unitário | K9: Mão de Obra | M9: Materiais | N9: Total (R$) | O9: %
A11: =RESUMO!A10 -> U.C. : 01 | B11: =RESUMO!B10 -> CANTEIRO DE OBRAS
A12: 01 | B12: CANTEIRO DE OBRAS
A13: 0101 | B13: CONSTRUÇÃO DO CANTEIRO
A14: 010101 | B14: Escritório | G14: m² | H14: =8.5*3.6 -> 30.6 | I14: =VLOOKUP(A14,'[1]TAB OGU JUN18'!$A:$G,6,"falso") -> 665.83 | J14: =VLOOKUP(A14,'[1]TAB OGU JUN18'!$A:$G,4,"falso") -> 512.69 | K14: =J14*H14 -> 15688.314 | L14: =VLOOKUP(A14,'[1]TAB OGU JUN18'!$A:$G,5,"falso") -> 153.14 | M14: =L14*H14 -> 4686.084 | N14: =H14*I14 -> 20374.398 | O14: =(N14*1)/$N$21 -> 0.29487091
A15: 010103 | B15: Refeitório | G15: m² | H15: =8.54*3.66*1.5 -> 46.8846 | I15: =VLOOKUP(A15,'[1]TAB OGU JUN18'!$A:$G,6,"falso") -> 356.36 | J15: =VLOOKUP(A15,'[1]TAB OGU JUN18'!$A:$G,4,"falso") -> 277.5 | K15: =J15*H15 -> 13010.476 | L15: =VLOOKUP(A15,'[1]TAB OGU JUN18'!$A:$G,5,"falso") -> 78.86 | M15: =L15*H15 -> 3697.3196 | N15: =H15*I15 -> 16707.796 | O15: =(N15*1)/$N$21 -> 0.24180557
A16: 010104 | B16: Barracão fechado para materiais | G16: m² | H16: =7.32*6.1*1.5 -> 66.978 | I16: =VLOOKUP(A16,'[1]TAB OGU JUN18'!$A:$G,6,"falso") -> 214.23 | J16: =VLOOKUP(A16,'[1]TAB OGU JUN18'!$A:$G,4,"falso") -> 162.87 | K16: =J16*H16 -> 10908.707 | L16: =VLOOKUP(A16,'[1]TAB OGU JUN18'!$A:$G,5,"falso") -> 51.36 | M16: =L16*H16 -> 3439.9901 | N16: =H16*I16 -> 14348.697 | O16: =(N16*1)/$N$21 -> 0.20766323
A17: 010105 | B17: Barracão aberto | G17: m² | H17: =9*5*1.5 -> 67.5 | I17: =VLOOKUP(A17,'[1]TAB OGU JUN18'!$A:$G,6,"falso") -> 101.89 | J17: =VLOOKUP(A17,'[1]TAB OGU JUN18'!$A:$G,4,"falso") -> 87.41 | K17: =J17*H17 -> 5900.175 | L17: =VLOOKUP(A17,'[1]TAB OGU JUN18'!$A:$G,5,"falso") -> 14.48 | M17: =L17*H17 -> 977.4 | N17: =H17*I17 -> 6877.575 | O17: =(N17*1)/$N$21 -> 0.099536526
A18: 010106 | B18: Sanitário isolado | G18: m² | H18: =1.1*0.9*15 -> 14.85 | I18: =VLOOKUP(A18,'[1]TAB OGU JUN18'!$A:$G,6,"falso") -> 436.15 | J18: =VLOOKUP(A18,'[1]TAB OGU JUN18'!$A:$G,4,"falso") -> 299.09 | K18: =J18*H18 -> 4441.4865 | L18: =VLOOKUP(A18,'[1]TAB OGU JUN18'!$A:$G,5,"falso") -> 137.06 | M18: =L18*H18 -> 2035.341 | N18: =H18*I18 -> 6476.8275 | O18: =(N18*1)/$N$21 -> 0.09373666
A19: 010107 | B19: Chuveiro isolado | G19: m² | H19: =0.9*0.9*15 -> 12.15 | I19: =VLOOKUP(A19,'[1]TAB OGU JUN18'!$A:$G,6,"falso") -> 354.79 | J19: =VLOOKUP(A19,'[1]TAB OGU JUN18'!$A:$G,4,"falso") -> 255 | K19: =J19*H19 -> 3098.25 | L19: =VLOOKUP(A19,'[1]TAB OGU JUN18'!$A:$G,5,"falso") -> 99.79 | M19: =L19*H19 -> 1212.4485 | N19: =H19*I19 -> 4310.6985 | O19: =(N19*1)/$N$21 -> 0.062387099
B21: Total do Bloco | N21: =SUM(N14:N19) -> 69095.992 | O21: =N21/N35 -> 0.97848954
A23: 0102 | B23: ABASTECIMENTO DE ENERGIA ELÉTRICA
A24: 010201 | B24: Entrada provisória de energia trifásica 70A | G24: ud | H24: 1 | I24: =VLOOKUP(A24,'[1]TAB OGU JUN18'!$A:$G,6,"falso") -> 1322.28 | J24: =VLOOKUP(A24,'[1]TAB OGU JUN18'!$A:$G,4,"falso") -> 317.35 | K24: =J24*H24 -> 317.35 | L24: =VLOOKUP(A24,'[1]TAB OGU JUN18'!$A:$G,5,"falso") -> 1004.93 | M24: =L24*H24 -> 1004.93 | N24: =H24*I24 -> 1322.28 | O24: =N24/N26 -> 1
B26: Total do Bloco | N26: =N24 -> 1322.28 | O26: =N26/N35 -> 0.018725213
A28: 0103 | B28: ABASTECIMENTO DE ÁGUA
A29: 010301 | B29: Entrada provisória de água | G29: ud | H29: 1 | I29: =VLOOKUP(A29,'[1]TAB OGU JUN18'!$A:$G,6,"falso") -> 196.68 | L29: =VLOOKUP(A29,'[1]TAB OGU JUN18'!$A:$G,5,"falso") -> 196.68 | M29: =L29*H29 -> 196.68 | N29: =H29*I29 -> 196.68 | O29: =(N29*1)/N29 -> 1
B31: Total do Bloco | N31: =N29 -> 196.68 | O31: =N31/N35 -> 0.0027852458
B33: Total do Módulo | N33: =N31+N26+N21 -> 70614.952 | O33: =N33/N35 -> 1
B35: TOTAL DA UNIDADE | K35: =SUM(K14:K34) -> 53364.759 | M35: =SUM(M14:M34) -> 17250.193 | N35: =N33 -> 70614.952 | O35: =N35/RESUMO!H95 -> 0.0097514472

Sheet 02
A2: SISTEMA DE ORÇAMENTO DE OBRAS
C4: Mun./Loc.: | D4: =RESUMO!D4 -> SÃO JOSÉ DAS PALMEIRAS | G4: Data: | M4: =RESUMO!G4 -> 43657 | N4: =RESUMO!H4 -> BDI Aplicado
A5: Relatório Por U.C. | C5: Obra: | D5: =RESUMO!D5 -> SISTEMA DE ESGOTAMENTO SANITARIO - SES | G5: Nº Área: | N5: =RESUMO!H5 -> Serviços | O5: =RESUMO!I5 -> 0.2758
C6: Área Resp.: | G6: Nº USAQ: | N6: =RESUMO!H6 -> Serv Terc: | O6: =RESUMO!I6 -> 0.1772
C7: Nº U.C.: | D7: =A11 -> U.C. : 02 | G7: Referência: | M7: =RESUMO!G7 -> Jun18 MOS4aEd v00 | N7: =RESUMO!H7 -> Mat/Equip: | O7: =RESUMO!I7 -> 0.1772
C8: Ud. Const.: | D8: =B11 -> PLACA DE OBRA
B9: Descrição | G9: Ud | H9: Qtde. | I9: Unitário | K9: Mão de Obra | M9: Materiais | N9: Total (R$) | O9: %
A11: =RESUMO!A11 -> U.C. : 02 | B11: =RESUMO!B11 -> PLACA DE OBRA
A12: 0105 | B12: PLACA DE OBRA
A13: 010501 | B13: Em chapa preta | G13: m² | H13: 12 | I13: =VLOOKUP(A13,'[1]TAB OGU JUN18'!$A:$G,6,"falso") -> 321.96 | J13: =VLOOKUP(A13,'[1]TAB OGU JUN18'!$A:$G,4,"falso") -> 61.17 | K13: =H13*J13 -> 734.04 | L13: =VLOOKUP(A13,'[1]TAB OGU JUN18'!$A:$G,5,"falso") -> 260.79 | M13: =H13*L13 -> 3129.48 | N13: =H13*I13 -> 3863.52 | O13: =N13/N15 -> 1
B15: Total do Bloco | N15: =N13 -> 3863.52 | O15: =N15/N19 -> 1
B17: Total do Módulo | N17: =N15 -> 3863.52 | O17: =N17/N19 -> 1
B19: TOTAL DA UNIDADE | K19: =SUM(K13) -> 734.04 | M19: =SUM(M13) -> 3129.48 | N19: =N17 -> 3863.52 | O19: =N19/RESUMO!H95 -> 0.00053352598

Sheet 03
A2: SISTEMA DE ORÇAMENTO DE OBRAS
C4: Mun./Loc.: | D4: =RESUMO!D4 -> SÃO JOSÉ DAS PALMEIRAS | G4: Data: | I4: =RESUMO!G4 -> 43657 | J4: =RESUMO!H5 -> Serviços
A5: Relatório Por U.C. | C5: Obra: | D5: =RESUMO!D5 -> SISTEMA DE ESGOTAMENTO SANITARIO - SES | G5: Nº Área: | J5: Serviços | K5: ='02'!O5 -> 0.2758
C6: Área Resp.: | G6: Nº USAQ: | J6: Serv Terc: | K6: ='02'!O6 -> 0.1772
C7: Nº U.C.: | D7: =A12 -> U.C. : 03 | G7: Referência: | I7: =RESUMO!G7 -> Jun18 MOS4aEd v00 | J7: Mat/Equip: | K7: ='02'!O7 -> 0.1772
C8: Ud. Const.: | D8: =B12 -> ADMINISTRAÇÃO LOCAL DA OBRA | I8: * Valor SINAPI Junho/2018 - Desonerado
I9: ** Orçamento com fornecedores
B10: Descrição | G10: Ud | H10: Valor Unitário | I10: Coef. | J10: Total (R$) | K10: %
A12: =RESUMO!A12 -> U.C. : 03 | B12: =RESUMO!B12 -> ADMINISTRAÇÃO LOCAL DA OBRA
B13: ADMINISTRAÇÃO LOCAL DA OBRA
B14: Setor de compras
A15: 253 * | B15: Almoxarife | G15: h | H15: 15.94 | I15: 12 | J15: =H15*I15 -> 191.28 | K15: =J15/$J$37 -> 0.016110571 | L15: 253
B16: Serviços gerais
A17: 41776 * | B17: Vigia noturno, hora efetivamente trabalhada de 22 h as 5 h | G17: h | H17: 16.05 | I17: =140*1 -> 140 | J17: =H17*I17 -> 2247 | K17: =J17/$J$37 -> 0.18925372 | L17: 41776
B18: Setor de produção
A19: 2706 * | B19: Engenheiro civil de obra junior com encargos complementares | G19: h | H19: 73.19 | I19: 6 | J19: =H19*I19 -> 439.14 | K19: =J19/$J$37 -> 0.036986596 | L19: 2706
A20: 2708 * | B20: Engenheiro civil de obra sênior com encargos complementares | G20: h | H20: 113.88 | I20: 6 | J20: =H20*I20 -> 683.28 | K20: =J20/$J$37 -> 0.057549303 | L20: 2708
A21: 4069 * | B21: Mestre de obras com encargos complementares | G21: h | H21: 41.98 | I21: 8 | J21: =H21*I21 -> 335.84 | K21: =J21/$J$37 -> 0.028286146 | L21: 4069
B23: DESPESAS GERAIS DA OBRA
B24: Consumos / despesas diversas
A25: ** | B25: Limpeza / higiene | G25: mês | H25: 150 | I25: 1 | J25: =H25*I25 -> 150 | K25: =J25/$J$37 -> 0.01263376
A26: 14250 * | B26: Energia eletrica comercial, baixa tensao, relativa ao consumo de ate 100 kwh | G26: KW/h | H26: 0.79 | I26: 290 | J26: =H26*I26 -> 229.1 | K26: =J26/$J$37 -> 0.019295963 | L26: 14250
A27: ** | B27: Água / esgoto | G27: mês | H27: 132.72 | I27: 1 | J27: =H27*I27 -> 132.72 | K27: =J27/$J$37 -> 0.011178351
A28: ** | B28: Conta de telefone | G28: mês | H28: 650 | I28: 1 | J28: =H28*I28 -> 650 | K28: =J28/$J$37 -> 0.054746293
A29: 40862 * | B29: Vale refeição | G29: mês | H29: 527.77 | I29: 6 | J29: =H29*I29 -> 3166.62 | K29: =J29/$J$37 -> 0.26670878 | L29: 40862
A30: 40861 * | B30: Vale transporte | G30: mês | H30: 126.77 | I30: 6 | J30: =H30*I30 -> 760.62 | K30: =J30/$J$37 -> 0.06406327 | L30: 40861
A31: 4221 * | B31: Combustíveis / óleo | G31: l | H31: 3.23 | I31: 325 | J31: =H31*I31 -> 1049.75 | K31: =J31/$J$37 -> 0.088415263 | L31: 4221
B33: Locação de Veículos e Equipamentos
A34: 030177 | B34: Veículo leve | G34: mês | H34: 22.97 | I34: 80 | J34: =H34*I34 -> 1837.6 | K34: =J34/$J$37 -> 0.15477198
B37: TOTAL MENSAL | G37: R$ | J37: =SUM(J15:J35) -> 11872.95
B38: A.L.O. MENSAL COM BDI | G38: R$ | J38: =J37+(K5*J37) -> 15147.51
B39: PERÍODO DE EXECUÇÃO | G39: mês | J39: 12
B40: TOTAL DA UNIDADE | J40: =J39*J38 -> 181770.12 | K40: =J40/RESUMO!H95 -> 0.025101223

Sheet 04
A2: SISTEMA DE ORÇAMENTO DE OBRAS
C4: Mun./Loc.: | D4: =RESUMO!D4 -> SÃO JOSÉ DAS PALMEIRAS | G4: Data: | M4: =RESUMO!G4 -> 43657 | N4: =RESUMO!H4 -> BDI Aplicado | P4: extensão rede | Q4: profundidade média | R4: largura média | S4: escoramento | T4: TL / TQ / PV | U4: escavação | V4: pavimentação | W4: deslocamento | X4: número ligações | Y4: pavimentação ligações
A5: Relatório Por U.C. | C5: Obra: | D5: =RESUMO!D5 -> SISTEMA DE ESGOTAMENTO SANITARIO - SES | G5: Nº Área: | N5: =RESUMO!H5 -> Serviços | O5: =RESUMO!I5 -> 0.2758
C6: Área Resp.: | G6: Nº USAQ: | N6: =RESUMO!H6 -> Serv Terc: | O6: =RESUMO!I6 -> 0.1772 | P6: 17247.83 | Q6: 1.3243172 | R6: 0.52399374 | S6: 2465.9392 | T6: 199 | U6: 3012.585 | V6: 770.40434 | W6: 90 | X6: 517 | Y6: 44.437895
C7: Nº U.C.: | D7: =RESUMO!A14 -> U.C. : 04 | G7: Referência: | M7: =RESUMO!G7 -> Jun18 MOS4aEd v00 | N7: =RESUMO!H7 -> Mat/Equip: | O7: =RESUMO!I7 -> 0.1772 | T7: 15 | U7: 1000.2938 | V7: 148.96588 | Y7: 8.59254
C8: Ud. Const.: | D8: =RESUMO!B14 -> REDE COLETORA DE ESGOTOS | T8: 312 | U8: 8025.7576 | V8: 4600.2055 | Y8: 265.34566
B9: Descrição | G9: Ud | H9: Qtde. | I9: Unitário | K9: Mão de Obra | M9: Materiais | N9: Total (R$) | O9: % | U9: 52.54829 | V9: 1202.7113 | Y9: 69.373903
U10: 2711.3265 | V10: 424.82 | Y10: 277.49561
A11: =RESUMO!A15 -> 1 | B11: =RESUMO!B15 -> REDE COLETORA - SERVIÇOS | U11: 8171.3136 | V11: 42.443493
A12: 02 | B12: SERVIÇOS TÉCNICOS | U12: 1208.5447 | V12: 6162.7061
A13: 0201 | B13: TOPOGRAFIA E GEODÉSIA - SERVIÇOS
A14: 020137 | B14: Locação e nivelamento para assentamento de tubulação de esgoto | G14: m | H14: =P6 -> 17247.83 | I14: =VLOOKUP(A14,'[1]TAB OGU JUN18'!$A:$G,6,"falso") -> 1.2 | J14: =VLOOKUP(A14,'[1]TAB OGU JUN18'!$A:$G,4,"falso") -> 0.82 | K14: =H14*J14 -> 14143.221 | L14: =VLOOKUP(A14,'[1]TAB OGU JUN18'!$A:$G,5,"falso") -> 0.38 | M14: =H14*L14 -> 6554.1754 | N14: =H14*I14 -> 20697.396 | O14: =(N14*1)/$N$17 -> 1
B15: (Ordem de serviço para execução - OSE)
B17: Total do Bloco | N17: =SUM(N14:N14) -> 20697.396 | O17: =N17/N34 -> 0.64115022
A19: 0202 | B19: TOPOGRAFIA E GEODÉSIA - ESTADIA DA EQUIPE
A20: 020237 | B20: Locação e nivelamento para assentamento de tubulação de esgoto (Ordem de serviço para execução - OSE) | G20: m | H20: =H14 -> 17247.83 | I20: =VLOOKUP(A20,'[1]TAB OGU JUN18'!$A:$G,6,"falso") -> 0.4 | J20: =VLOOKUP(A20,'[1]TAB OGU JUN18'!$A:$G,4,"falso") -> 0.4 | K20: =H20*J20 -> 6899.132 | L20: =VLOOKUP(A20,'[1]TAB OGU JUN18'!$A:$G,5,"falso") -> 0 | N20: =H20*I20 -> 6899.132 | O20: =N20/N22 -> 1
B22: Total do Bloco | N22: =N20 -> 6899.132 | O22: =N22/N34 -> 0.21371674
A24: 0203 | B24: TOPOGRAFIA E GEODÉSIA - TRANSPORTE DA EQUIPE
A25: 020301 | B25: Deslocamento interurbano de equipe topográfica / equipe de serviços técnicos especializados | G25: Km | H25: =W6 -> 90 | I25: =VLOOKUP(A25,'[1]TAB OGU JUN18'!$A:$G,6,"falso") -> 2.23 | J25: =VLOOKUP(A25,'[1]TAB OGU JUN18'!$A:$G,4,"falso") -> 2.23 | K25: =H25*J25 -> 200.7 | L25: =VLOOKUP(A25,'[1]TAB OGU JUN18'!$A:$G,5,"falso") -> 0 | N25: =H25*I25 -> 200.7 | O25: =N25/N27 -> 1
B27: Total do Bloco | N27: =N25 -> 200.7 | O27: =N27/N34 -> 0.0062171517
A29: 0207 | B29: CADASTRO DE OBRAS
A30: 020702 | B30: Cadastro linear de esgoto - CAD | G30: m | H30: =H14 -> 17247.83 | I30: =VLOOKUP(A30,'[1]TAB OGU JUN18'!$A:$G,6,"falso") -> 0.26 | J30: =VLOOKUP(A30,'[1]TAB OGU JUN18'!$A:$G,4,"falso") -> 0.26 | K30: =H30*J30 -> 4484.4358 | L30: =VLOOKUP(A30,'[1]TAB OGU JUN18'!$A:$G,5,"falso") -> 0 | N30: =H30*I30 -> 4484.4358 | O30: =N30/N32 -> 1
B32: Total do Bloco | N32: =N30 -> 4484.4358 | O32: =N32/N34 -> 0.13891588
B34: Total do Módulo | N34: =N32+N17+N22+N27 -> 32281.664 | O34: =N34/N190 -> 0.031634269
A36: 03 | B36: SERVIÇOS PRELIMINARES
A37: 0305 | B37: SINALIZAÇÃO DE SEGURANÇA
A38: 030501 | B38: Fita plástica | G38: m | H38: =0.25*H14 -> 4311.9575 | I38: =VLOOKUP(A38,'[1]TAB OGU JUN18'!$A:$G,6,"falso") -> 0.2 | J38: =VLOOKUP(A38,'[1]TAB OGU JUN18'!$A:$G,4,"falso") -> 0.13 | K38: =H38*J38 -> 560.55447 | L38: =VLOOKUP(A38,'[1]TAB OGU JUN18'!$A:$G,5,"falso") -> 0.07 | M38: =H38*L38 -> 301.83702 | N38: =H38*I38 -> 862.3915 | O38: =N38/N41 -> 0.16393443
A39: 030504 | B39: Tapume em tela plástica | G39: m | H39: =H38 -> 4311.9575 | I39: =VLOOKUP(A39,'[1]TAB OGU JUN18'!$A:$G,6,"falso") -> 1.02 | J39: =VLOOKUP(A39,'[1]TAB OGU JUN18'!$A:$G,4,"falso") -> 0.91 | K39: =H39*J39 -> 3923.8813 | L39: =VLOOKUP(A39,'[1]TAB OGU JUN18'!$A:$G,5,"falso") -> 0.11 | M39: =H39*L39 -> 474.31532 | N39: =H39*I39 -> 4398.1966 | O39: =N39/N41 -> 0.83606557
B41: Total do Bloco | N41: =N39+N38 -> 5260.5881 | O41: =N41/N49 -> 0.42153844
A43: 0306 | B43: SINALIZAÇÃO DE TRÂNSITO
A44: 030601 | B44: Placa de advertência 1,00 x 1,00m | G44: ud | H44: =ROUND(H14*0.004,0) -> 69 | I44: =VLOOKUP(A44,'[1]TAB OGU JUN18'!$A:$G,6,"falso") -> 75.34 | J44: =VLOOKUP(A44,'[1]TAB OGU JUN18'!$A:$G,4,"falso") -> 38.79 | K44: =H44*J44 -> 2676.51 | L44: =VLOOKUP(A44,'[1]TAB OGU JUN18'!$A:$G,5,"falso") -> 36.55 | M44: =H44*L44 -> 2521.95 | N44: =H44*I44 -> 5198.46 | O44: =N44/N47 -> 0.72011703
A45: 030602 | B45: Placa de advertência 1,00 x 2,00m | G45: ud | H45: =ROUND(H44/4,0) -> 17 | I45: =VLOOKUP(A45,'[1]TAB OGU JUN18'!$A:$G,6,"falso") -> 118.85 | J45: =VLOOKUP(A45,'[1]TAB OGU JUN18'!$A:$G,4,"falso") -> 58.83 | K45: =H45*J45 -> 1000.11 | L45: =VLOOKUP(A45,'[1]TAB OGU JUN18'!$A:$G,5,"falso") -> 60.02 | M45: =H45*L45 -> 1020.34 | N45: =H45*I45 -> 2020.45 | O45: =N45/N47 -> 0.27988297
B47: Total do Bloco | N47: =N44+N45 -> 7218.91 | O47: =N47/N49 -> 0.57846156
B49: Total do Módulo | N49: =N47+N41 -> 12479.498 | O49: =N49/N190 -> 0.012229227
A51: 04 | B51: MOVIMENTO DE SOLOS
A52: 0401 | B52: ESCAVAÇÃO MANUAL DE VALAS
A53: 040109 | B53: Em terra compacta, prof. 0 m < h ≤ 1 m | G53: m³ | H53: =U6 -> 3012.585 | I53: =VLOOKUP(A53,'[1]TAB OGU JUN18'!$A:$G,6,"falso") -> 32.9 | J53: =VLOOKUP(A53,'[1]TAB OGU JUN18'!$A:$G,4,"falso") -> 32.9 | K53: =H53*J53 -> 99114.046 | L53: =VLOOKUP(A53,'[1]TAB OGU JUN18'!$A:$G,5,"falso") -> 0 | N53: =H53*I53 -> 99114.046 | O53: =N53/N56 -> 0.70666463
A54: 040110 | B54: Em terra compacta, prof. 1 m < h ≤ 2 m | G54: m³ | H54: =U7 -> 1000.2938 | I54: =VLOOKUP(A54,'[1]TAB OGU JUN18'!$A:$G,6,"falso") -> 41.13 | J54: =VLOOKUP(A54,'[1]TAB OGU JUN18'!$A:$G,4,"falso") -> 41.13 | K54: =H54*J54 -> 41142.085 | L54: =VLOOKUP(A54,'[1]TAB OGU JUN18'!$A:$G,5,"falso") -> 0 | N54: =H54*I54 -> 41142.085 | O54: =N54/N56 -> 0.29333537
B56: Total do Bloco | N56: =SUM(N53:N54) -> 140256.13 | O56: =N56/N86 -> 0.40677024
A58: 0402 | B58: ESCAVAÇÃO MECÂNICA DE VALAS EM QUALQUER TIPO DE SOLO, EXCETO ROCHA
...

Sheet 05
A2: SISTEMA DE ORÇAMENTO DE OBRAS
C4: Mun./Loc.: | D4: =RESUMO!D4 -> SÃO JOSÉ DAS PALMEIRAS | G4: Data: | M4: =RESUMO!G4 -> 43657 | N4: =RESUMO!H4 -> BDI Aplicado
A5: Relatório Por U.C. | C5: Obra: | D5: =RESUMO!D5 -> SISTEMA DE ESGOTAMENTO SANITARIO - SES | G5: Nº Área: | N5: =RESUMO!H5 -> Serviços | O5: =RESUMO!I5 -> 0.2758
C6: Área Resp.: | G6: Nº USAQ: | N6: =RESUMO!H6 -> Serv Terc: | O6: =RESUMO!I6 -> 0.1772
C7: Nº U.C.: | D7: =RESUMO!A14 -> U.C. : 04 | G7: Referência: | M7: =RESUMO!G7 -> Jun18 MOS4aEd v00 | N7: =RESUMO!H7 -> Mat/Equip: | O7: =RESUMO!I7 -> 0.1772
C8: Ud. Const.: | D8: =RESUMO!B14 -> REDE COLETORA DE ESGOTOS | M8: ='[1]TAB OGU JUN18'!$B$1 -> Descrição
B9: Descrição | G9: Ud | H9: Qtde. | I9: Unitário | K9: Mão de Obra | M9: Materiais | N9: Total (R$) | O9: %
A11: =RESUMO!A16 -> 2 | B11: =RESUMO!B16 -> REDE COLETORA - MATERIAIS
A12: 20 | B12: MATERIAL DE CONCRETO
A13: 2001 | B13: TAMPA / COPO DE CONCRETO
A14: 6251 * | B14: Tampa/copo de concreto DN 150 | G14: ud | H14: ='04'!H118 -> 199 | I14: 31.4 | L14: 31.4 | M14: =H14*L14 -> 6248.6 | N14: =H14*I14 -> 6248.6 | O14: =(N14*1)/$N$17 -> 1 | P14: 6251
A15: 13255 * | B15: Tampa de concreto para PV ou caixa de inspeção, dimensões 600 X 600 X 50 mm | G15: ud | H15: 0 | I15: 43.13 | L15: 43.13 | M15: =H15*L15 -> 0 | N15: =H15*I15 -> 0 | O15: =N15/N17 -> 0 | P15: 13255
B17: Total do Bloco | N17: =SUM(N14:N15) -> 6248.6 | O17: =N17/N19 -> 1
B19: Total do Módulo | N19: =N17 -> 6248.6 | O19: =N19/N48 -> 0.0080423178
A21: 22 | B21: MATERIAL DE FERRO DÚCTIL - ESGOTO
A22: 2233 | B22: TAMPÃO FD
A23: 223302 | B23: Tampão Classe 125 FD para poço de visita padrão Sanepar | G23: ud | H23: ='04'!H128 -> 312 | I23: =VLOOKUP(A23,'[1]TAB OGU JUN18'!$A:$G,6,"falso") -> 315 | L23: =VLOOKUP(A23,'[1]TAB OGU JUN18'!$A:$G,5,"falso") -> 315 | M23: =H23*L23 -> 98280 | N23: =H23*I23 -> 98280 | O23: =N23/N25 -> 1
B25: Total do Bloco | N25: =N23 -> 98280 | O25: =N25/N27 -> 1
B27: Total do Módulo | N27: =N25 -> 98280 | O27: =N27/N48 -> 0.12649217
A29: 25 | B29: MATERIAL DE PVC - ESGOTO
A30: 2503 | B30: CURVA PVC
A31: 250331 | B31: Curva PVC 90º JE/JEI PB coletor de esgoto DN 150 | G31: ud | H31: ='04'!H118+'04'!H123 -> 214 | I31: =VLOOKUP(A31,'[1]TAB OGU JUN18'!$A:$G,6,"falso") -> 87.25 | L31: =VLOOKUP(A31,'[1]TAB OGU JUN18'!$A:$G,5,"falso") -> 87.25 | M31: =H31*L31 -> 18671.5 | N31: =H31*I31 -> 18671.5 | O31: =(N31*1)/N31 -> 1
B33: Total do Bloco | N33: =N31 -> 18671.5 | O33: =N33/N46 -> 0.027766935
A35: 2509 | B35: TE PVC
A36: 250903 | B36: Te PVC JE/JEI BBB coletor de esgoto DN 150 | G36: ud | H36: ='04'!H123 -> 15 | I36: =VLOOKUP(A36,'[1]TAB OGU JUN18'!$A:$G,6,"falso") -> 112 | L36: =VLOOKUP(A36,'[1]TAB OGU JUN18'!$A:$G,5,"falso") -> 112 | M36: =H36*L36 -> 1680 | N36: =H36*I36 -> 1680 | O36: =N36/N38 -> 1
B38: Total do Bloco | N38: =N36 -> 1680 | O38: =N38/N46 -> 0.0024983773
A40: 2511 | B40: TUBO PVC
A41: 251103 | B41: Tubo PVC JEI coletor de esgoto parede maciça NBR 7362-2 DN 150 | G41: m | H41: ='04'!H112 -> 17103.39 | I41: =VLOOKUP(A41,'[1]TAB OGU JUN18'!$A:$G,6,"falso") -> 37.63 | L41: =VLOOKUP(A41,'[1]TAB OGU JUN18'!$A:$G,5,"falso") -> 37.63 | M41: =H41*L41 -> 643600.57 | N41: =H41*I41 -> 643600.57 | O41: =N41/$N$44 -> 0.9869888
A42: 251104 | B42: Tubo PVC JEI coletor de esgoto parede maciça NBR 7362-2 DN 200 | G42: m | H42: ='04'!H113 -> 144.44 | I42: =VLOOKUP(A42,'[1]TAB OGU JUN18'!$A:$G,6,"falso") -> 58.74 | L42: =VLOOKUP(A42,'[1]TAB OGU JUN18'!$A:$G,5,"falso") -> 58.74 | M42: =H42*L42 -> 8484.4056 | N42: =H42*I42 -> 8484.4056 | O42: =N42/$N$44 -> 0.013011196
B44: Total do Bloco | N44: =N41+N42 -> 652084.97 | O44: =N44/N46 -> 0.96973469
B46: Total do Módulo | N46: =N44+N38+N33 -> 672436.47 | O46: =N46/N48 -> 0.86546551
B48: TOTAL DA UNIDADE | M48: =SUM(M13:M47) -> 776965.07 | N48: =N46+N27+N19 -> 776965.07
B50: TOTAL DA UNIDADE COM BDI | M50: =M48+(M48*O7) -> 914643.28 | N50: =M50 -> 914643.28 | O50: =N50/RESUMO!H95 -> 0.12630605

Sheet 06
A2: SISTEMA DE ORÇAMENTO DE OBRAS
C4: Mun./Loc.: | D4: =RESUMO!D4 -> SÃO JOSÉ DAS PALMEIRAS | G4: Data: | M4: =RESUMO!G4 -> 43657 | N4: =RESUMO!H4 -> BDI Aplicado
A5: Relatório Por U.C. | C5: Obra: | D5: =RESUMO!D5 -> SISTEMA DE ESGOTAMENTO SANITARIO - SES | G5: Nº Área: | N5: =RESUMO!H5 -> Serviços | O5: =RESUMO!I5 -> 0.2758
C6: Área Resp.: | G6: Nº USAQ: | N6: =RESUMO!H6 -> Serv Terc: | O6: =RESUMO!I6 -> 0.1772 | Q6: ='04'!X6 -> 517 | S6: =(PI()*0.1^2)/4 -> 0.0078539816 | T6: =S6*H96 -> 6.0907628
C7: Nº U.C.: | D7: =RESUMO!A17 -> U.C. : 05 | G7: Referência: | M7: =RESUMO!G7 -> Jun18 MOS4aEd v00 | N7: =RESUMO!H7 -> Mat/Equip: | O7: =RESUMO!I7 -> 0.1772
C8: Ud. Const.: | D8: =RESUMO!B17 -> LIGAÇÕES PREDIAIS
B9: Descrição | G9: Ud | H9: Qtde. | I9: Unitário | K9: Mão de Obra | M9: Materiais | N9: Total (R$) | O9: %
A11: =RESUMO!A18 -> 1 | B11: =RESUMO!B18 -> LIGAÇÕES PREDIAIS - SERVIÇOS
A12: 04 | B12: MOVIMENTO DE SOLOS
A13: 0401 | B13: ESCAVAÇÃO MANUAL DE VALAS
A14: 040109 | B14: Em terra compacta, prof. 0 m < h ≤ 1 m | G14: m³ | H14: =Q96/3 -> 129.25 | I14: =VLOOKUP(A14,'[1]TAB OGU JUN18'!$A:$G,6,"falso") -> 32.9 | J14: =VLOOKUP(A14,'[1]TAB OGU JUN18'!$A:$G,4,"falso") -> 32.9 | K14: =H14*J14 -> 4252.325 | L14: =VLOOKUP(A14,'[1]TAB OGU JUN18'!$A:$G,5,"falso") -> 0 | N14: =H14*I14 -> 4252.325 | O14: =N14/N16 -> 1
B16: Total do Bloco | N16: =N14 -> 4252.325 | O16: =N16/N43 -> 0.45455822
A18: 0402 | B18: ESCAVAÇÃO MECÂNICA DE VALAS EM QUALQUER TIPO DE SOLO, EXCETO ROCHA
A19: 040201 | B19: Profundidade 0 m < h ≤ 2 m | G19: m³ | H19: =H14*2 -> 258.5 | I19: =VLOOKUP(A19,'[1]TAB OGU JUN18'!$A:$G,6,"falso") -> 9.77 | J19: =VLOOKUP(A19,'[1]TAB OGU JUN18'!$A:$G,4,"falso") -> 9.77 | K19: =H19*J19 -> 2525.545 | L19: =VLOOKUP(A19,'[1]TAB OGU JUN18'!$A:$G,5,"falso") -> 0 | N19: =H19*I19 -> 2525.545 | O19: =N19/N21 -> 1
B21: Total do Bloco | N21: =N19 -> 2525.545 | O21: =N21/N43 -> 0.26997166
A23: 0413 | B23: ATERRO/REATERRO EM VALAS E CAVAS
A24: 041301 | B24: Manual | G24: m³ | H24: =H14-H34 -> 84.384237 | I24: =VLOOKUP(A24,'[1]TAB OGU JUN18'!$A:$G,6,"falso") -> 7.4 | J24: =VLOOKUP(A24,'[1]TAB OGU JUN18'!$A:$G,4,"falso") -> 7.4 | K24: =H24*J24 -> 624.44336 | L24: =VLOOKUP(A24,'[1]TAB OGU JUN18'!$A:$G,5,"falso") -> 0 | N24: =H24*I24 -> 624.44336 | O24: =N24/N26 -> 1
B26: Total do Bloco | N26: =N24 -> 624.44336 | O26: =N26/N43 -> 0.066750745
A28: 0414 | B28: COMPACTAÇÃO EM VALAS
A29: 041401 | B29: Manual | G29: m³ | H29: =H24 -> 84.384237 | I29: =VLOOKUP(A29,'[1]TAB OGU JUN18'!$A:$G,6,"falso") -> 20.56 | J29: =VLOOKUP(A29,'[1]TAB OGU JUN18'!$A:$G,4,"falso") -> 20.56 | K29: =H29*J29 -> 1734.9399 | L29: =VLOOKUP(A29,'[1]TAB OGU JUN18'!$A:$G,5,"falso") -> 0 | N29: =H29*I29 -> 1734.9399 | O29: =N29/N31 -> 1
B31: Total do Bloco | N31: =N29 -> 1734.9399 | O31: =N31/N43 -> 0.18545883
A33: 0418 | B33: CARGA E DESCARGA DE SOLOS
A34: 041801 | B34: Qualquer tipo de solo exceto rocha | G34: m³ | H34: =H57+T6 -> 44.865763 | I34: =VLOOKUP(A34,'[1]TAB OGU JUN18'!$A:$G,6,"falso") -> 1.85 | J34: =VLOOKUP(A34,'[1]TAB OGU JUN18'!$A:$G,4,"falso") -> 1.85 | K34: =H34*J34 -> 83.001661 | L34: =VLOOKUP(A34,'[1]TAB OGU JUN18'!$A:$G,5,"falso") -> 0 | N34: =H34*I34 -> 83.001661 | O34: =N34/N36 -> 1
B36: Total do Bloco | N36: =N34 -> 83.001661 | O36: =N36/N43 -> 0.0088725785
A38: 0419 | B38: TRANSPORTE DE SOLOS
A39: 041901 | B39: Qualquer tipo de solo exceto rocha, em rodovia ou rua | G39: m³xkm | H39: =H34*3 -> 134.59729 | I39: =VLOOKUP(A39,'[1]TAB OGU JUN18'!$A:$G,6,"falso") -> 1 | J39: =VLOOKUP(A39,'[1]TAB OGU JUN18'!$A:$G,4,"falso") -> 1 | K39: =H39*J39 -> 134.59729 | L39: =VLOOKUP(A39,'[1]TAB OGU JUN18'!$A:$G,5,"falso") -> 0 | N39: =H39*I39 -> 134.59729 | O39: =N39/N41 -> 1
B41: Total do Bloco | N41: =N39 -> 134.59729 | O41: =N41/N43 -> 0.014387965
B43: Total do Módulo | N43: =N41+N36+N31+N26+N21+N16 -> 9354.8522 | O43: =N43/N102 -> 0.22310396
A45: 09 | B45: ASSENTAMENTOS
A46: 0902 | B46: TUBULAÇÃO DE PVC JE / JEI PARA ESGOTO
A47: 090201 | B47: DN 100 | G47: m | H47: =Q6*2.5 -> 1292.5 | I47: =VLOOKUP(A47,'[1]TAB OGU JUN18'!$A:$G,6,"falso") -> 2.17 | J47: =VLOOKUP(A47,'[1]TAB OGU JUN18'!$A:$G,4,"falso") -> 2.13 | K47: =H47*J47 -> 2753.025 | L47: =VLOOKUP(A47,'[1]TAB OGU JUN18'!$A:$G,5,"falso") -> 0.04 | M47: =H47*L47 -> 51.7 | N47: =H47*I47 -> 2804.725 | O47: =N47/N49 -> 1
B49: Total do Bloco | N49: =N47 -> 2804.725 | O49: =N49/N61 -> 0.11771918
A51: 0912 | B51: TUBO DE INSPEÇÃO E LIMPEZA (TIL) PARA LIGAÇÃO PREDIAL
A52: 091201 | B52: PVC JE DN 100 X 100 | G52: ud | H52: =Q6 -> 517 | I52: =VLOOKUP(A52,'[1]TAB OGU JUN18'!$A:$G,6,"falso") -> 28.81 | J52: =VLOOKUP(A52,'[1]TAB OGU JUN18'!$A:$G,4,"falso") -> 22.49 | K52: =H52*J52 -> 11627.33 | L52: =VLOOKUP(A52,'[1]TAB OGU JUN18'!$A:$G,5,"falso") -> 6.32 | M52: =H52*L52 -> 3267.44 | N52: =H52*I52 -> 14894.77 | O52: =N52/N54 -> 1
B54: Total do Bloco | N54: =N52 -> 14894.77 | O54: =N54/N61 -> 0.62515935
A56: 0927 | B56: EMBASAMENTO
A57: 092702 | B57: Areia | G57: m³ | H57: =H96*0.5*0.1 -> 38.775 | I57: =VLOOKUP(A57,'[1]TAB OGU JUN18'!$A:$G,6,"falso") -> 157.99 | J57: =VLOOKUP(A57,'[1]TAB OGU JUN18'!$A:$G,4,"falso") -> 39.5 | K57: =H57*J57 -> 1531.6125 | L57: =VLOOKUP(A57,'[1]TAB OGU JUN18'!$A:$G,5,"falso") -> 118.49 | M57: =H57*L57 -> 4594.4498 | N57: =H57*I57 -> 6126.0623 | O57: =N57/N59 -> 1
B59: Total do Bloco | N59: =N57 -> 6126.0623 | O59: =N59/N61 -> 0.25712147
B61: Total do Módulo | N61: =N59+N54+N49 -> 23825.557 | O61: =N61/N102 -> 0.56821593
A63: 10 | B63: PAVIMENTAÇÃO
...

Sheet 07
A2: SISTEMA DE ORÇAMENTO DE OBRAS
C4: Mun./Loc.: | D4: =RESUMO!D4 -> SÃO JOSÉ DAS PALMEIRAS | G4: Data: | M4: =RESUMO!G4 -> 43657 | N4: =RESUMO!H4 -> BDI Aplicado
A5: Relatório Por U.C. | C5: Obra: | D5: =RESUMO!D5 -> SISTEMA DE ESGOTAMENTO SANITARIO - SES | G5: Nº Área: | N5: =RESUMO!H5 -> Serviços | O5: =RESUMO!I5 -> 0.2758
C6: Área Resp.: | G6: Nº USAQ: | N6: =RESUMO!H6 -> Serv Terc: | O6: =RESUMO!I6 -> 0.1772
C7: Nº U.C.: | D7: =RESUMO!A17 -> U.C. : 05 | G7: Referência: | M7: =RESUMO!G7 -> Jun18 MOS4aEd v00 | N7: =RESUMO!H7 -> Mat/Equip: | O7: =RESUMO!I7 -> 0.1772
C8: Ud. Const.: | D8: =RESUMO!B17 -> LIGAÇÕES PREDIAIS | M8: ='[1]TAB OGU JUN18'!$B$1 -> Descrição
B9: Descrição | G9: Ud | H9: Qtde. | I9: Unitário | K9: Mão de Obra | M9: Materiais | N9: Total (R$) | O9: %
A11: =RESUMO!A19 -> 2 | B11: =RESUMO!B19 -> LIGAÇÕES PREDIAIS - MATERIAIS
A12: 20 | B12: MATERIAL DE CONCRETO
A13: 2001 | B13: TAMPA / COPO DE CONCRETO
A14: 6251 * | B14: Tampa/copo de concreto DN 150 | G14: ud | H14: ='06'!Q6 -> 517 | I14: 31.4 | L14: 31.4 | M14: 30.84 | N14: =H14*I14 -> 16233.8 | O14: =N14/N16 -> 1 | P14: 6251
B16: Total do Bloco | N16: =SUM(N14:N14) -> 16233.8 | O16: =N16/N18 -> 1
B18: Total do Módulo | N18: =N16 -> 16233.8 | O18: =N18/N43 -> 0.10095651
A20: 25 | B20: MATERIAL DE PVC - ESGOTO
A21: 2503 | B21: CURVA PVC
A22: 250330 | B22: Curva PVC 90º JE/JEI PB coletor de esgoto DN 100 | G22: ud | H22: =H14 -> 517 | I22: =VLOOKUP(A22,'[1]TAB OGU JUN18'!$A:$G,6,"falso") -> 19.42 | L22: =VLOOKUP(A22,'[1]TAB OGU JUN18'!$A:$G,5,"falso") -> 19.42 | M22: =H22*L22 -> 10040.14 | N22: =H22*I22 -> 10040.14 | O22: =N22/N24 -> 1
B24: Total do Bloco | N24: =N22 -> 10040.14 | O24: =N24/N41 -> 0.069450156
A26: 2509 | B26: TE PVC
A27: 250920 | B27: Te Red PVC JE/JEI BBB coletor de esgoto DN 150 100 | G27: ud | H27: =H14 -> 517 | I27: =VLOOKUP(A27,'[1]TAB OGU JUN18'!$A:$G,6,"falso") -> 196.76 | L27: =VLOOKUP(A27,'[1]TAB OGU JUN18'!$A:$G,5,"falso") -> 196.76 | M27: =H27*L27 -> 101724.92 | N27: =H27*I27 -> 101724.92 | O27: =N27/N29 -> 1
B29: Total do Bloco | N29: =N27 -> 101724.92 | O29: =N29/N41 -> 0.70365668
B31: TIL PVC
A32: 251001 | B32: Til de Ligação predial PVC JE/JEI BBB DN 100 | G32: ud | H32: =H14 -> 517 | I32: =VLOOKUP(A32,'[1]TAB OGU JUN18'!$A:$G,6,"falso") -> 19.72 | L32: =VLOOKUP(A32,'[1]TAB OGU JUN18'!$A:$G,5,"falso") -> 19.72 | M32: =H32*L32 -> 10195.24 | N32: =H32*I32 -> 10195.24 | O32: =N32/N34 -> 1
B34: Total do Bloco | N34: =N32 -> 10195.24 | O34: =N34/N41 -> 0.070523022
A36: 2511 | B36: TUBO PVC
A37: 251101 | B37: Tubo PVC JEI coletor de esgoto parede maciça NBR 7362-2 DN 100 | G37: m | H37: =H14*2.5 -> 1292.5 | I37: =VLOOKUP(A37,'[1]TAB OGU JUN18'!$A:$G,6,"falso") -> 17.49 | L37: =VLOOKUP(A37,'[1]TAB OGU JUN18'!$A:$G,5,"falso") -> 17.49 | M37: =H37*L37 -> 22605.825 | N37: =H37*I37 -> 22605.825 | O37: =N37/N39 -> 1
B39: Total do Bloco | N39: =N37 -> 22605.825 | O39: =N39/N41 -> 0.15637014
B41: Total do Módulo | N41: =N39+N34+N29+N24 -> 144566.12 | O41: =N41/N43 -> 0.89904349
B43: TOTAL DA UNIDADE | M43: =SUM(M14:M42) -> 144596.96 | N43: =N41+N18 -> 160799.92
B45: TOTAL DA UNIDADE COM BDI | M45: =M43+(M43*O7) -> 170219.55 | N45: =M45 -> 170219.55 | O45: =N45/RESUMO!H95 -> 0.023506168

Sheet 08 - 1
A2: SISTEMA DE ORÇAMENTO DE OBRAS
C4: Mun./Loc.: | D4: =RESUMO!D4 -> SÃO JOSÉ DAS PALMEIRAS | G4: Data: | M4: =RESUMO!G4 -> 43657 | N4: =RESUMO!H4 -> BDI Aplicado | P4: comprimento da rede | Q4: profundidade média | R4: largura média | S4: escoramento | T4: escavação | U4: quantidade PV
A5: Relatório Por U.C. | C5: Obra: | D5: =RESUMO!D5 -> SISTEMA DE ESGOTAMENTO SANITARIO - SES | G5: Nº Área: | N5: =RESUMO!H5 -> Serviços | O5: =RESUMO!I5 -> 0.2758
C6: Área Resp.: | G6: Nº USAQ: | N6: =RESUMO!H6 -> Serv Terc: | O6: =RESUMO!I6 -> 0.1772 | P6: 1046.54 | Q6: 2.144311 | R6: 0.66029488 | S6: 897.6429 | T6: 230.34167 | U6: 20
C7: Nº U.C.: | D7: =RESUMO!A20 -> U.C. : 06 | G7: Referência: | M7: =RESUMO!G7 -> Jun18 MOS4aEd v00 | N7: =RESUMO!H7 -> Mat/Equip: | O7: =RESUMO!I7 -> 0.1772 | T7: 214.01126
C8: Ud. Const.: | D8: =RESUMO!B20 -> COLETOR 01 | T8: 888.70585
B9: Descrição | G9: Ud | H9: Qtde. | I9: Unitário | K9: Mão de Obra | M9: Materiais | N9: Total (R$) | O9: % | T9: 162.8755
T10: 207.3075
A11: =RESUMO!A42 -> 1 | B11: =RESUMO!B21 -> COLETOR 01 - SERVIÇOS | T11: 1201.0319
A12: 02 | B12: SERVIÇOS TÉCNICOS | T12: 87.594862
A13: 0201 | B13: TOPOGRAFIA E GEODÉSIA - SERVIÇOS
A14: 020137 | B14: Locação e nivelamento para assentamento de tubulação de esgoto | G14: m | H14: =P6 -> 1046.54 | I14: =VLOOKUP(A14,'[1]TAB OGU JUN18'!$A:$G,6,"falso") -> 1.2 | J14: =VLOOKUP(A14,'[1]TAB OGU JUN18'!$A:$G,4,"falso") -> 0.82 | K14: =H14*J14 -> 858.1628 | L14: =VLOOKUP(A14,'[1]TAB OGU JUN18'!$A:$G,5,"falso") -> 0.38 | M14: =H14*L14 -> 397.6852 | N14: =H14*I14 -> 1255.848 | O14: =N14/N17 -> 1
B15: (Ordem de serviço para execução - OSE)
B17: Total do Bloco | N17: =SUM(N14:N14) -> 1255.848 | O17: =N17/N29 -> 0.64516129
A19: 0202 | B19: TOPOGRAFIA E GEODÉSIA - ESTADIA DA EQUIPE
A20: 020237 | B20: Locação e nivelamento para assentamento de tubulação de esgoto (Ordem de serviço para execução - OSE) | G20: m | H20: =H14 -> 1046.54 | I20: =VLOOKUP(A20,'[1]TAB OGU JUN18'!$A:$G,6,"falso") -> 0.4 | J20: =VLOOKUP(A20,'[1]TAB OGU JUN18'!$A:$G,4,"falso") -> 0.4 | K20: =H20*J20 -> 418.616 | L20: =VLOOKUP(A20,'[1]TAB OGU JUN18'!$A:$G,5,"falso") -> 0 | N20: =H20*I20 -> 418.616 | O20: =N20/N22 -> 1
B22: Total do Bloco | N22: =N20 -> 418.616 | O22: =N22/N29 -> 0.21505376
A24: 0207 | B24: CADASTRO DE OBRAS
A25: 020702 | B25: Cadastro linear de esgoto - CAD | G25: m | H25: =H20 -> 1046.54 | I25: =VLOOKUP(A25,'[1]TAB OGU JUN18'!$A:$G,6,"falso") -> 0.26 | J25: =VLOOKUP(A25,'[1]TAB OGU JUN18'!$A:$G,4,"falso") -> 0.26 | K25: =H25*J25 -> 272.1004 | L25: =VLOOKUP(A25,'[1]TAB OGU JUN18'!$A:$G,5,"falso") -> 0 | N25: =H25*I25 -> 272.1004 | O25: =N25/N27 -> 1
B27: Total do Bloco | N27: =N25 -> 272.1004 | O27: =N27/N29 -> 0.13978495
B29: Total do Módulo | N29: =N27+N17+N22 -> 1946.5644 | O29: =N29/N118 -> 0.022886219
A31: 04 | B31: MOVIMENTO DE SOLOS
A32: 0401 | B32: ESCAVAÇÃO MANUAL DE VALAS
A33: 040109 | B33: Em terra compacta, prof. 0 m < h ≤ 1 m | G33: m³ | H33: =T6 -> 230.34167 | I33: =VLOOKUP(A33,'[1]TAB OGU JUN18'!$A:$G,6,"falso") -> 32.9 | J33: =VLOOKUP(A33,'[1]TAB OGU JUN18'!$A:$G,4,"falso") -> 32.9 | K33: =H33*J33 -> 7578.2408 | L33: =VLOOKUP(A33,'[1]TAB OGU JUN18'!$A:$G,5,"falso") -> 0 | N33: =H33*I33 -> 7578.2408 | O33: =N33/N36 -> 0.46263727
A34: 040110 | B34: Em terra compacta, prof. 0 m < h ≤ 2 m | G34: m³ | H34: =T7 -> 214.01126 | I34: =VLOOKUP(A34,'[1]TAB OGU JUN18'!$A:$G,6,"falso") -> 41.13 | J34: =VLOOKUP(A34,'[1]TAB OGU JUN18'!$A:$G,4,"falso") -> 41.13 | K34: =H34*J34 -> 8802.2832 | L34: =VLOOKUP(A34,'[1]TAB OGU JUN18'!$A:$G,5,"falso") -> 0 | N34: =H34*I34 -> 8802.2832 | O34: =N34/N36 -> 0.53736273
B36: Total do Bloco | N36: =SUM(N33:N34) -> 16380.524 | O36: =N36/N66 -> 0.41415615
A38: 0402 | B38: ESCAVAÇÃO MECÂNICA DE VALAS EM QUALQUER TIPO DE SOLO, EXCETO ROCHA
A39: 040201 | B39: Profundidade 0 m < h ≤ 2 m | G39: m³ | H39: =T8 -> 888.70585 | I39: =VLOOKUP(A39,'[1]TAB OGU JUN18'!$A:$G,6,"falso") -> 9.77 | J39: =VLOOKUP(A39,'[1]TAB OGU JUN18'!$A:$G,4,"falso") -> 9.77 | K39: =H39*J39 -> 8682.6562 | L39: =VLOOKUP(A39,'[1]TAB OGU JUN18'!$A:$G,5,"falso") -> 0 | N39: =H39*I39 -> 8682.6562 | O39: =N39/N42 -> 0.82689233
A40: 040202 | B40: Profundidade 0 m < h ≤ 4 m | G40: m³ | H40: =T9 -> 162.8755 | I40: =VLOOKUP(A40,'[1]TAB OGU JUN18'!$A:$G,6,"falso") -> 11.16 | J40: =VLOOKUP(A40,'[1]TAB OGU JUN18'!$A:$G,4,"falso") -> 11.16 | K40: =H40*J40 -> 1817.6905 | L40: =VLOOKUP(A40,'[1]TAB OGU JUN18'!$A:$G,5,"falso") -> 0 | N40: =H40*I40 -> 1817.6905 | O40: =N40/N42 -> 0.17310767
B42: Total do Bloco | N42: =N39+N40 -> 10500.347 | O42: =N42/N66 -> 0.26548499
A44: 0413 | B44: ATERRO/REATERRO EM VALAS E CAVAS
A45: 041301 | B45: Manual | G45: m³ | H45: =T10 -> 207.3075 | I45: =VLOOKUP(A45,'[1]TAB OGU JUN18'!$A:$G,6,"falso") -> 7.4 | J45: =VLOOKUP(A45,'[1]TAB OGU JUN18'!$A:$G,4,"falso") -> 7.4 | K45: =H45*J45 -> 1534.0755 | L45: =VLOOKUP(A45,'[1]TAB OGU JUN18'!$A:$G,5,"falso") -> 0 | N45: =H45*I45 -> 1534.0755 | O45: =N45/N48 -> 0.49177951
A46: 041302 | B46: Mecânico | G46: m³ | H46: =T11 -> 1201.0319 | I46: =VLOOKUP(A46,'[1]TAB OGU JUN18'!$A:$G,6,"falso") -> 1.32 | J46: =VLOOKUP(A46,'[1]TAB OGU JUN18'!$A:$G,4,"falso") -> 1.32 | K46: =H46*J46 -> 1585.3621 | L46: =VLOOKUP(A46,'[1]TAB OGU JUN18'!$A:$G,5,"falso") -> 0 | N46: =H46*I46 -> 1585.3621 | O46: =N46/N48 -> 0.50822049
B48: Total do Bloco | N48: =N46+N45 -> 3119.4376 | O48: =N48/N66 -> 0.078870144
A50: 0414 | B50: COMPACTAÇÃO EM VALAS
A51: 041401 | B51: Manual | G51: m³ | H51: =H45 -> 207.3075 | I51: =VLOOKUP(A51,'[1]TAB OGU JUN18'!$A:$G,6,"falso") -> 20.56 | J51: =VLOOKUP(A51,'[1]TAB OGU JUN18'!$A:$G,4,"falso") -> 20.56 | K51: =H51*J51 -> 4262.2422 | L51: =VLOOKUP(A51,'[1]TAB OGU JUN18'!$A:$G,5,"falso") -> 0 | N51: =H51*I51 -> 4262.2422 | O51: =N51/N54 -> 0.46702228
A52: 041402 | B52: Mecânico | G52: m³ | H52: =H46 -> 1201.0319 | I52: =VLOOKUP(A52,'[1]TAB OGU JUN18'!$A:$G,6,"falso") -> 4.05 | J52: =VLOOKUP(A52,'[1]TAB OGU JUN18'!$A:$G,4,"falso") -> 4.05 | K52: =H52*J52 -> 4864.1793 | L52: =VLOOKUP(A52,'[1]TAB OGU JUN18'!$A:$G,5,"falso") -> 0 | N52: =H52*I52 -> 4864.1793 | O52: =N52/N54 -> 0.53297772
B54: Total do Bloco | N54: =N52+N51 -> 9126.4215 | O54: =N54/N66 -> 0.23074742
A56: 0418 | B56: CARGA E DESCARGA DE SOLOS
A57: 041801 | B57: Qualquer tipo de solo exceto rocha | G57: m³ | H57: =T12 -> 87.594862 | I57: =VLOOKUP(A57,'[1]TAB OGU JUN18'!$A:$G,6,"falso") -> 1.85 | J57: =VLOOKUP(A57,'[1]TAB OGU JUN18'!$A:$G,4,"falso") -> 1.85 | K57: =H57*J57 -> 162.05049 | L57: =VLOOKUP(A57,'[1]TAB OGU JUN18'!$A:$G,5,"falso") -> 0 | N57: =H57*I57 -> 162.05049 | O57: =N57/N59 -> 1
...

Sheet 09 - 1
A2: SISTEMA DE ORÇAMENTO DE OBRAS
C4: Mun./Loc.: | D4: =RESUMO!D4 -> SÃO JOSÉ DAS PALMEIRAS | G4: Data: | M4: =RESUMO!G4 -> 43657 | N4: =RESUMO!H4 -> BDI Aplicado
A5: Relatório Por U.C. | C5: Obra: | D5: =RESUMO!D5 -> SISTEMA DE ESGOTAMENTO SANITARIO - SES | G5: Nº Área: | N5: =RESUMO!H5 -> Serviços | O5: =RESUMO!I5 -> 0.2758
C6: Área Resp.: | G6: Nº USAQ: | N6: =RESUMO!H6 -> Serv Terc: | O6: =RESUMO!I6 -> 0.1772
C7: Nº U.C.: | D7: =RESUMO!A20 -> U.C. : 06 | G7: Referência: | M7: =RESUMO!G7 -> Jun18 MOS4aEd v00 | N7: =RESUMO!H7 -> Mat/Equip: | O7: =RESUMO!I7 -> 0.1772
C8: Ud. Const.: | D8: =RESUMO!B20 -> COLETOR 01
B9: Descrição | G9: Ud | H9: Qtde. | I9: Unitário | K9: Mão de Obra | M9: Materiais | N9: Total (R$) | O9: %
A11: =RESUMO!A43 -> 2 | B11: =RESUMO!B22 -> COLETOR 01 - MATERIAIS
A12: 20 | B12: MATERIAL DE CONCRETO
A13: 2010 | B13: TAMPÃO PARA POÇO DE VISITA
A14: 13255 * | B14: Tampa de concreto para PV ou caixa de inspeção, dimensões 600 X 600 X 50 mm | G14: ud | H14: ='08 - 1'!H98 -> 20 | I14: 37.84 | L14: 37.84 | M14: =H14*L14 -> 756.8 | N14: =H14*I14 -> 756.8 | O14: =N14/N16 -> 1 | P14: 13255
B16: Total do Bloco | N16: =N14 -> 756.8 | O16: =N16/N18 -> 1
B18: Total do Módulo | N18: =N16 -> 756.8 | O18: =N18/N29 -> 0.015611468
A20: 25 | B20: MATERIAL DE PVC - ESGOTO
A21: 2511 | B21: TUBO PVC
A22: 251103 | B22: Tubo PVC JEI coletor de esgoto parede maciça NBR 7362-2 DN 150 | G22: m | H22: ='08 - 1'!H92 -> 651.51 | I22: =VLOOKUP(A22,'[1]TAB OGU JUN18'!$A:$G,6,"falso") -> 37.63 | L22: =VLOOKUP(A22,'[1]TAB OGU JUN18'!$A:$G,5,"falso") -> 37.63 | M22: =H22*L22 -> 24516.321 | N22: =H22*I22 -> 24516.321 | O22: =N22/$N$25 -> 0.51374946
A23: 251104 | B23: Tubo PVC JEI coletor de esgoto parede maciça NBR 7362-2 DN 200 | G23: m | H23: ='08 - 1'!H93 -> 395.03 | I23: =VLOOKUP(A23,'[1]TAB OGU JUN18'!$A:$G,6,"falso") -> 58.74 | L23: =VLOOKUP(A23,'[1]TAB OGU JUN18'!$A:$G,5,"falso") -> 58.74 | M23: =H23*L23 -> 23204.062 | N23: =H23*I23 -> 23204.062 | O23: =N23/$N$25 -> 0.48625054
B25: Total do Bloco | N25: =N22+N23 -> 47720.383 | O25: =N25/N27 -> 1
B27: Total do Módulo | N27: =N25 -> 47720.383 | O27: =N27/N29 -> 0.98438853
B29: TOTAL DA UNIDADE | M29: =SUM(M14:M28) -> 48477.183 | N29: =N27+N18 -> 48477.183
B31: TOTAL DA UNIDADE COM BDI | M31: =M29+(M29*O7) -> 57067.34 | N31: =M31 -> 57067.34 | O31: =N31/RESUMO!H95 -> 0.0078806137

Sheet 08 - 2
A2: SISTEMA DE ORÇAMENTO DE OBRAS
C4: Mun./Loc.: | D4: =RESUMO!D4 -> SÃO JOSÉ DAS PALMEIRAS | G4: Data: | M4: =RESUMO!G4 -> 43657 | N4: =RESUMO!H4 -> BDI Aplicado | P4: comprimento da rede | Q4: profundidade média | R4: largura média | S4: escoramento | T4: movimentação de solo 0 a 4 | U4: quantidade PV
A5: Relatório Por U.C. | C5: Obra: | D5: =RESUMO!D5 -> SISTEMA DE ESGOTAMENTO SANITARIO - SES | G5: Nº Área: | N5: =RESUMO!H5 -> Serviços | O5: =RESUMO!I5 -> 0.2758
C6: Área Resp.: | G6: Nº USAQ: | N6: =RESUMO!H6 -> Serv Terc: | O6: =RESUMO!I6 -> 0.1772 | P6: 121.47 | Q6: 2.3966883 | R6: 0.69121594 | S6: 116.45029 | T6: 27.987333 | U6: 4
C7: Nº U.C.: | D7: =RESUMO!A23 -> U.C. : 07 | G7: Referência: | M7: =RESUMO!G7 -> Jun18 MOS4aEd v00 | N7: =RESUMO!H7 -> Mat/Equip: | O7: =RESUMO!I7 -> 0.1772 | T7: 27.933983
C8: Ud. Const.: | D8: =RESUMO!B23 -> COLETOR 02 | T8: 111.84263
B9: Descrição | G9: Ud | H9: Qtde. | I9: Unitário | K9: Mão de Obra | M9: Materiais | N9: Total (R$) | O9: % | T9: 33.916732
T10: 25.1886
A11: =RESUMO!A42 -> 1 | B11: =RESUMO!B24 -> COLETOR 02 - SERVIÇOS | T11: 165.94951
A12: 02 | B12: SERVIÇOS TÉCNICOS | T12: 10.542575
A13: 0201 | B13: TOPOGRAFIA E GEODÉSIA - SERVIÇOS
A14: 020137 | B14: Locação e nivelamento para assentamento de tubulação de esgoto | G14: m | H14: =P6 -> 121.47 | I14: =VLOOKUP(A14,'[1]TAB OGU JUN18'!$A:$G,6,"falso") -> 1.2 | J14: =VLOOKUP(A14,'[1]TAB OGU JUN18'!$A:$G,4,"falso") -> 0.82 | K14: =H14*J14 -> 99.6054 | L14: =VLOOKUP(A14,'[1]TAB OGU JUN18'!$A:$G,5,"falso") -> 0.38 | M14: =H14*L14 -> 46.1586 | N14: =H14*I14 -> 145.764 | O14: =N14/N17 -> 1
B15: (Ordem de serviço para execução - OSE)
B17: Total do Bloco | N17: =SUM(N14:N14) -> 145.764 | O17: =N17/N29 -> 0.64516129
A19: 0202 | B19: TOPOGRAFIA E GEODÉSIA - ESTADIA DA EQUIPE
A20: 020237 | B20: Locação e nivelamento para assentamento de tubulação de esgoto (Ordem de serviço para execução - OSE) | G20: m | H20: =H14 -> 121.47 | I20: =VLOOKUP(A20,'[1]TAB OGU JUN18'!$A:$G,6,"falso") -> 0.4 | J20: =VLOOKUP(A20,'[1]TAB OGU JUN18'!$A:$G,4,"falso") -> 0.4 | K20: =H20*J20 -> 48.588 | L20: =VLOOKUP(A20,'[1]TAB OGU JUN18'!$A:$G,5,"falso") -> 0 | N20: =H20*I20 -> 48.588 | O20: =N20/N22 -> 1
B22: Total do Bloco | N22: =N20 -> 48.588 | O22: =N22/N29 -> 0.21505376
A24: 0207 | B24: CADASTRO DE OBRAS
A25: 020702 | B25: Cadastro linear de esgoto - CAD | G25: m | H25: =H20 -> 121.47 | I25: =VLOOKUP(A25,'[1]TAB OGU JUN18'!$A:$G,6,"falso") -> 0.26 | J25: =VLOOKUP(A25,'[1]TAB OGU JUN18'!$A:$G,4,"falso") -> 0.26 | K25: =H25*J25 -> 31.5822 | L25: =VLOOKUP(A25,'[1]TAB OGU JUN18'!$A:$G,5,"falso") -> 0 | N25: =H25*I25 -> 31.5822 | O25: =N25/N27 -> 1
B27: Total do Bloco | N27: =N25 -> 31.5822 | O27: =N27/N29 -> 0.13978495
B29: Total do Módulo | N29: =N27+N17+N22 -> 225.9342 | O29: =N29/N118 -> 0.018557781
A31: 04 | B31: MOVIMENTO DE SOLOS
A32: 0401 | B32: ESCAVAÇÃO MANUAL DE VALAS
A33: 040109 | B33: Em terra compacta, prof. 0 m < h ≤ 1 m | G33: m³ | H33: =T6 -> 27.987333 | I33: =VLOOKUP(A33,'[1]TAB OGU JUN18'!$A:$G,6,"falso") -> 32.9 | J33: =VLOOKUP(A33,'[1]TAB OGU JUN18'!$A:$G,4,"falso") -> 32.9 | K33: =H33*J33 -> 920.78327 | L33: =VLOOKUP(A33,'[1]TAB OGU JUN18'!$A:$G,5,"falso") -> 0 | N33: =H33*I33 -> 920.78327 | O33: =N33/N36 -> 0.44488559
A34: 040110 | B34: Em terra compacta, prof. 0 m < h ≤ 2 m | G34: m³ | H34: =T7 -> 27.933983 | I34: =VLOOKUP(A34,'[1]TAB OGU JUN18'!$A:$G,6,"falso") -> 41.13 | J34: =VLOOKUP(A34,'[1]TAB OGU JUN18'!$A:$G,4,"falso") -> 41.13 | K34: =H34*J34 -> 1148.9247 | L34: =VLOOKUP(A34,'[1]TAB OGU JUN18'!$A:$G,5,"falso") -> 0 | N34: =H34*I34 -> 1148.9247 | O34: =N34/N36 -> 0.55511441
B36: Total do Bloco | N36: =SUM(N33:N34) -> 2069.708 | O36: =N36/N66 -> 0.39898179
A38: 0402 | B38: ESCAVAÇÃO MECÂNICA DE VALAS EM QUALQUER TIPO DE SOLO, EXCETO ROCHA
A39: 040201 | B39: Profundidade 0 m < h ≤ 2 m | G39: m³ | H39: =T8 -> 111.84263 | I39: =VLOOKUP(A39,'[1]TAB OGU JUN18'!$A:$G,6,"falso") -> 9.77 | J39: =VLOOKUP(A39,'[1]TAB OGU JUN18'!$A:$G,4,"falso") -> 9.77 | K39: =H39*J39 -> 1092.7025 | L39: =VLOOKUP(A39,'[1]TAB OGU JUN18'!$A:$G,5,"falso") -> 0 | N39: =H39*I39 -> 1092.7025 | O39: =N39/N42 -> 0.74272205
A40: 040202 | B40: Profundidade 0 m < h ≤ 4 m | G40: m³ | H40: =T9 -> 33.916732 | I40: =VLOOKUP(A40,'[1]TAB OGU JUN18'!$A:$G,6,"falso") -> 11.16 | J40: =VLOOKUP(A40,'[1]TAB OGU JUN18'!$A:$G,4,"falso") -> 11.16 | K40: =H40*J40 -> 378.51073 | L40: =VLOOKUP(A40,'[1]TAB OGU JUN18'!$A:$G,5,"falso") -> 0 | N40: =H40*I40 -> 378.51073 | O40: =N40/N42 -> 0.25727795
B42: Total do Bloco | N42: =N39+N40 -> 1471.2133 | O42: =N42/N66 -> 0.28360875
A44: 0413 | B44: ATERRO/REATERRO EM VALAS E CAVAS
A45: 041301 | B45: Manual | G45: m³ | H45: =T10 -> 25.1886 | I45: =VLOOKUP(A45,'[1]TAB OGU JUN18'!$A:$G,6,"falso") -> 7.4 | J45: =VLOOKUP(A45,'[1]TAB OGU JUN18'!$A:$G,4,"falso") -> 7.4 | K45: =H45*J45 -> 186.39564 | L45: =VLOOKUP(A45,'[1]TAB OGU JUN18'!$A:$G,5,"falso") -> 0 | N45: =H45*I45 -> 186.39564 | O45: =N45/N48 -> 0.45972649
A46: 041302 | B46: Mecânico | G46: m³ | H46: =T11 -> 165.94951 | I46: =VLOOKUP(A46,'[1]TAB OGU JUN18'!$A:$G,6,"falso") -> 1.32 | J46: =VLOOKUP(A46,'[1]TAB OGU JUN18'!$A:$G,4,"falso") -> 1.32 | K46: =H46*J46 -> 219.05335 | L46: =VLOOKUP(A46,'[1]TAB OGU JUN18'!$A:$G,5,"falso") -> 0 | N46: =H46*I46 -> 219.05335 | O46: =N46/N48 -> 0.54027351
B48: Total do Bloco | N48: =N46+N45 -> 405.44899 | O48: =N48/N66 -> 0.07815922
A50: 0414 | B50: COMPACTAÇÃO EM VALAS
A51: 041401 | B51: Manual | G51: m³ | H51: =H45 -> 25.1886 | I51: =VLOOKUP(A51,'[1]TAB OGU JUN18'!$A:$G,6,"falso") -> 20.56 | J51: =VLOOKUP(A51,'[1]TAB OGU JUN18'!$A:$G,4,"falso") -> 20.56 | K51: =H51*J51 -> 517.87762 | L51: =VLOOKUP(A51,'[1]TAB OGU JUN18'!$A:$G,5,"falso") -> 0 | N51: =H51*I51 -> 517.87762 | O51: =N51/N54 -> 0.4352011
A52: 041402 | B52: Mecânico | G52: m³ | H52: =H46 -> 165.94951 | I52: =VLOOKUP(A52,'[1]TAB OGU JUN18'!$A:$G,6,"falso") -> 4.05 | J52: =VLOOKUP(A52,'[1]TAB OGU JUN18'!$A:$G,4,"falso") -> 4.05 | K52: =H52*J52 -> 672.09551 | L52: =VLOOKUP(A52,'[1]TAB OGU JUN18'!$A:$G,5,"falso") -> 0 | N52: =H52*I52 -> 672.09551 | O52: =N52/N54 -> 0.5647989
B54: Total do Bloco | N54: =N52+N51 -> 1189.9731 | O54: =N54/N66 -> 0.22939352
A56: 0418 | B56: CARGA E DESCARGA DE SOLOS
A57: 041801 | B57: Qualquer tipo de solo exceto rocha | G57: m³ | H57: =T12 -> 10.542575 | I57: =VLOOKUP(A57,'[1]TAB OGU JUN18'!$A:$G,6,"falso") -> 1.85 | J57: =VLOOKUP(A57,'[1]TAB OGU JUN18'!$A:$G,4,"falso") -> 1.85 | K57: =H57*J57 -> 19.503764 | L57: =VLOOKUP(A57,'[1]TAB OGU JUN18'!$A:$G,5,"falso") -> 0 | N57: =H57*I57 -> 19.503764 | O57: =N57/N59 -> 1
...

Sheet 09 - 2
A2: SISTEMA DE ORÇAMENTO DE OBRAS
C4: Mun./Loc.: | D4: =RESUMO!D4 -> SÃO JOSÉ DAS PALMEIRAS | G4: Data: | M4: =RESUMO!G4 -> 43657 | N4: =RESUMO!H4 -> BDI Aplicado
A5: Relatório Por U.C. | C5: Obra: | D5: =RESUMO!D5 -> SISTEMA DE ESGOTAMENTO SANITARIO - SES | G5: Nº Área: | N5: =RESUMO!H5 -> Serviços | O5: =RESUMO!I5 -> 0.2758
C6: Área Resp.: | G6: Nº USAQ: | N6: =RESUMO!H6 -> Serv Terc: | O6: =RESUMO!I6 -> 0.1772
C7: Nº U.C.: | D7: =RESUMO!A23 -> U.C. : 07 | G7: Referência: | M7: =RESUMO!G7 -> Jun18 MOS4aEd v00 | N7: =RESUMO!H7 -> Mat/Equip: | O7: =RESUMO!I7 -> 0.1772
C8: Ud. Const.: | D8: =RESUMO!B23 -> COLETOR 02
B9: Descrição | G9: Ud | H9: Qtde. | I9: Unitário | K9: Mão de Obra | M9: Materiais | N9: Total (R$) | O9: %
A11: =RESUMO!A43 -> 2 | B11: =RESUMO!B25 -> COLETOR 02 - MATERIAIS
A12: 20 | B12: MATERIAL DE CONCRETO
A13: 2010 | B13: TAMPÃO PARA POÇO DE VISITA
A14: 13255 * | B14: Tampa de concreto para PV ou caixa de inspeção, dimensões 600 X 600 X 50 mm | G14: ud | H14: ='08 - 2'!H98 -> 4 | I14: 37.84 | L14: 37.84 | M14: =H14*L14 -> 151.36 | N14: =H14*I14 -> 151.36 | O14: =N14/N16 -> 1 | P14: 13255
B16: Total do Bloco | N16: =N14 -> 151.36 | O16: =N16/N18 -> 1
B18: Total do Módulo | N18: =N16 -> 151.36 | O18: =N18/N29 -> 0.03205234
A20: 25 | B20: MATERIAL DE PVC - ESGOTO
A21: 2511 | B21: TUBO PVC
A22: 251103 | B22: Tubo PVC JEI coletor de esgoto parede maciça NBR 7362-2 DN 150 | G22: m | H22: ='08 - 2'!H92 -> 121.47 | I22: =VLOOKUP(A22,'[1]TAB OGU JUN18'!$A:$G,6,"falso") -> 37.63 | L22: =VLOOKUP(A22,'[1]TAB OGU JUN18'!$A:$G,5,"falso") -> 37.63 | M22: =H22*L22 -> 4570.9161 | N22: =H22*I22 -> 4570.9161 | O22: =N22/$N$25 -> 1
A23: 251104 | B23: Tubo PVC JEI coletor de esgoto parede maciça NBR 7362-2 DN 200 | G23: m | H23: ='08 - 2'!H93 -> 0 | I23: =VLOOKUP(A23,'[1]TAB OGU JUN18'!$A:$G,6,"falso") -> 58.74 | L23: =VLOOKUP(A23,'[1]TAB OGU JUN18'!$A:$G,5,"falso") -> 58.74 | M23: =H23*L23 -> 0 | N23: =H23*I23 -> 0 | O23: =N23/$N$25 -> 0
B25: Total do Bloco | N25: =N22+N23 -> 4570.9161 | O25: =N25/N27 -> 1
B27: Total do Módulo | N27: =N25 -> 4570.9161 | O27: =N27/N29 -> 0.96794766
B29: TOTAL DA UNIDADE | M29: =SUM(M14:M28) -> 4722.2761 | N29: =N27+N18 -> 4722.2761
B31: TOTAL DA UNIDADE COM BDI | M31: =M29+(M29*O7) -> 5559.0634 | N31: =M31 -> 5559.0634 | O31: =N31/RESUMO!H95 -> 0.00076766905

Sheet 08 - 3
A2: SISTEMA DE ORÇAMENTO DE OBRAS
C4: Mun./Loc.: | D4: =RESUMO!D4 -> SÃO JOSÉ DAS PALMEIRAS | G4: Data: | M4: =RESUMO!G4 -> 43657 | N4: =RESUMO!H4 -> BDI Aplicado | P4: comprimento da rede | Q4: profundidade média | R4: largura média | S4: escoramento | T4: movimentação de solo 0 a 4 | U4: quantidade PV
A5: Relatório Por U.C. | C5: Obra: | D5: =RESUMO!D5 -> SISTEMA DE ESGOTAMENTO SANITARIO - SES | G5: Nº Área: | N5: =RESUMO!H5 -> Serviços | O5: =RESUMO!I5 -> 0.2758
C6: Área Resp.: | G6: Nº USAQ: | N6: =RESUMO!H6 -> Serv Terc: | O6: =RESUMO!I6 -> 0.1772 | P6: 993.74 | Q6: 2.4059087 | R6: 0.65275726 | S6: 956.33909 | T6: 216.22367 | U6: 16
C7: Nº U.C.: | D7: =RESUMO!A26 -> U.C. : 08 | G7: Referência: | M7: =RESUMO!G7 -> Jun18 MOS4aEd v00 | N7: =RESUMO!H7 -> Mat/Equip: | O7: =RESUMO!I7 -> 0.1772 | T7: 179.95518
C8: Ud. Const.: | D8: =RESUMO!B26 -> COLETOR 03 | T8: 792.35769
B9: Descrição | G9: Ud | H9: Qtde. | I9: Unitário | K9: Mão de Obra | M9: Materiais | N9: Total (R$) | O9: % | T9: 409.2971
T10: 194.6013
A11: =RESUMO!A42 -> 1 | B11: =RESUMO!B27 -> COLETOR 03 - SERVIÇOS | T11: 1320.8059
A12: 02 | B12: SERVIÇOS TÉCNICOS | T12: 82.426486
A13: 0201 | B13: TOPOGRAFIA E GEODÉSIA - SERVIÇOS
