Workbook

Sheet Dados-IBGE
C2: 1. Censo Demográfico e Contagem da População
C4: Linear | E4: Exponencial | G4: Logaritmica | I4: Potência
C5: x | D5: y | E5: x | F5: ln y | G5: ln x | H5: y | I5: ln x | J5: ln y
C6: 1991 | D6: 2355 | E6: =C6 -> 1991 | F6: =LN(D6) -> 7.764296 | G6: =LN(C6) -> 7.5963923 | H6: =D6 -> 2355 | I6: =LN(C6) -> 7.5963923 | J6: =LN(D6) -> 7.764296
C7: 1996 | D7: 2068 | E7: =C7 -> 1996 | F7: =LN(D7) -> 7.6343372 | G7: =LN(C7) -> 7.5989005 | H7: =D7 -> 2068 | I7: =LN(C7) -> 7.5989005 | J7: =LN(D7) -> 7.6343372
C8: 2000 | D8: 2259 | E8: =C8 -> 2000 | F8: =LN(D8) -> 7.7226775 | G8: =LN(C8) -> 7.6009025 | H8: =D8 -> 2259 | I8: =LN(C8) -> 7.6009025 | J8: =LN(D8) -> 7.7226775
C9: 2007 | D9: 2283 | E9: =C9 -> 2007 | F9: =LN(D9) -> 7.7332456 | G9: =LN(C9) -> 7.6043963 | H9: =D9 -> 2283 | I9: =LN(C9) -> 7.6043963 | J9: =LN(D9) -> 7.7332456
C10: 2010 | D10: 2411 | E10: =C10 -> 2010 | F10: =LN(D10) -> 7.7877969 | G10: =LN(C10) -> 7.60589 | H10: =D10 -> 2411 | I10: =LN(C10) -> 7.60589 | J10: =LN(D10) -> 7.7877969
C11: x = Ano
C12: y = População
C15: RESULTADOS
C16: Linear | E16: Exponencial | G16: Logarítmica | I16: Potência
B17: Intercepto h | C17: =INTERCEPT(D6:D10,C6:C10) -> -10276.771 | E17: =INTERCEPT(F6:F10,E6:E10) -> 2.1183801 | G17: =INTERCEPT(H6:H10,G6:G10) -> -92898.369 | I17: =INTERCEPT(J6:J10,I6:I10) -> -34.81059
B18: Declividade k | C18: =SLOPE(D6:D10,C6:C10) -> 6.2734761 | E18: =SLOPE(F6:F10,E6:E10) -> 0.0028039237 | G18: =SLOPE(H6:H10,G6:G10) -> 12520.702 | I18: =SLOPE(J6:J10,I6:I10) -> 5.5962903
B19: Coeficiente a | C19: =C17 -> -10276.771 | E19: =EXP(E17) -> 8.3176525 | G19: =G17 -> -92898.369 | I19: =EXP(I17) -> 7.619961e-16
B20: Coeficiente b | C20: =C18 -> 6.2734761 | E20: =E18 -> 0.0028039237 | G20: =G18 -> 12520.702 | I20: =I18 -> 5.5962903
B21: r² | C21: =RSQ(D6:D10,C6:C10) -> 0.14039208 | E21: =RSQ(F6:F10,E6:E10) -> 0.13912672 | G21: =RSQ(H6:H10,G6:G10) -> 0.13970563 | I21: =RSQ(J6:J10,I6:I10) -> 0.13845513
C22: =C21 -> 0.14039208 | E22: =E21 -> 0.13912672 | G22: =G21 -> 0.13970563 | I22: =I21 -> 0.13845513

Sheet QuUr-IBGE
B2: 1. Projeção Número de ligações - População Urbana
B4: Ano | C4: Linear | D4: Exponencial | E4: Logarítmica | F4: Potência
C5: ='Dados-IBGE'!C22 -> 0.14039208 | D5: ='Dados-IBGE'!E22 -> 0.13912672 | E5: ='Dados-IBGE'!G22 -> 0.13970563 | F5: ='Dados-IBGE'!I22 -> 0.13845513 | G5: =MAX(C5:F5) -> 0.14039208
B6: 2008 | C6: ='Dados-IBGE'!$C$19+('Dados-IBGE'!$C$20*B6) -> 2320.369 | D6: ='Dados-IBGE'!$E$19*(EXP('Dados-IBGE'!$E$20*'QuUr-IBGE'!B6)) -> 2318.4611 | E6: ='Dados-IBGE'!$G$19+('Dados-IBGE'!$G$20*LN('QuUr-IBGE'!B6)) -> 2320.2516 | F6: ='Dados-IBGE'!$I$19*'QuUr-IBGE'!B6^'Dados-IBGE'!$I$20 -> 2318.3408
B7: 2009 | C7: ='Dados-IBGE'!$C$19+('Dados-IBGE'!$C$20*B7) -> 2326.6425 | D7: ='Dados-IBGE'!$E$19*(EXP('Dados-IBGE'!$E$20*'QuUr-IBGE'!B7)) -> 2324.971 | E7: ='Dados-IBGE'!$G$19+('Dados-IBGE'!$G$20*LN('QuUr-IBGE'!B7)) -> 2326.4854 | F7: ='Dados-IBGE'!$I$19*'QuUr-IBGE'!B7^'Dados-IBGE'!$I$20 -> 2324.8094
B8: 2010 | C8: ='Dados-IBGE'!$C$19+('Dados-IBGE'!$C$20*B8) -> 2332.916 | D8: ='Dados-IBGE'!$E$19*(EXP('Dados-IBGE'!$E$20*'QuUr-IBGE'!B8)) -> 2331.4992 | E8: ='Dados-IBGE'!$G$19+('Dados-IBGE'!$G$20*LN('QuUr-IBGE'!B8)) -> 2332.7162 | F8: ='Dados-IBGE'!$I$19*'QuUr-IBGE'!B8^'Dados-IBGE'!$I$20 -> 2331.2928
B9: 2011 | C9: ='Dados-IBGE'!$C$19+('Dados-IBGE'!$C$20*B9) -> 2339.1895 | D9: ='Dados-IBGE'!$E$19*(EXP('Dados-IBGE'!$E$20*'QuUr-IBGE'!B9)) -> 2338.0457 | E9: ='Dados-IBGE'!$G$19+('Dados-IBGE'!$G$20*LN('QuUr-IBGE'!B9)) -> 2338.9438 | F9: ='Dados-IBGE'!$I$19*'QuUr-IBGE'!B9^'Dados-IBGE'!$I$20 -> 2337.7911
B10: 2012 | C10: ='Dados-IBGE'!$C$19+('Dados-IBGE'!$C$20*B10) -> 2345.4629 | D10: ='Dados-IBGE'!$E$19*(EXP('Dados-IBGE'!$E$20*'QuUr-IBGE'!B10)) -> 2344.6106 | E10: ='Dados-IBGE'!$G$19+('Dados-IBGE'!$G$20*LN('QuUr-IBGE'!B10)) -> 2345.1684 | F10: ='Dados-IBGE'!$I$19*'QuUr-IBGE'!B10^'Dados-IBGE'!$I$20 -> 2344.3043
B11: 2013 | C11: ='Dados-IBGE'!$C$19+('Dados-IBGE'!$C$20*B11) -> 2351.7364 | D11: ='Dados-IBGE'!$E$19*(EXP('Dados-IBGE'!$E$20*'QuUr-IBGE'!B11)) -> 2351.1939 | E11: ='Dados-IBGE'!$G$19+('Dados-IBGE'!$G$20*LN('QuUr-IBGE'!B11)) -> 2351.3899 | F11: ='Dados-IBGE'!$I$19*'QuUr-IBGE'!B11^'Dados-IBGE'!$I$20 -> 2350.8323
B12: 2014 | C12: ='Dados-IBGE'!$C$19+('Dados-IBGE'!$C$20*B12) -> 2358.0099 | D12: ='Dados-IBGE'!$E$19*(EXP('Dados-IBGE'!$E$20*'QuUr-IBGE'!B12)) -> 2357.7957 | E12: ='Dados-IBGE'!$G$19+('Dados-IBGE'!$G$20*LN('QuUr-IBGE'!B12)) -> 2357.6082 | F12: ='Dados-IBGE'!$I$19*'QuUr-IBGE'!B12^'Dados-IBGE'!$I$20 -> 2357.3752
B13: 2015 | C13: ='Dados-IBGE'!$C$19+('Dados-IBGE'!$C$20*B13) -> 2364.2834 | D13: ='Dados-IBGE'!$E$19*(EXP('Dados-IBGE'!$E$20*'QuUr-IBGE'!B13)) -> 2364.4161 | E13: ='Dados-IBGE'!$G$19+('Dados-IBGE'!$G$20*LN('QuUr-IBGE'!B13)) -> 2363.8235 | F13: ='Dados-IBGE'!$I$19*'QuUr-IBGE'!B13^'Dados-IBGE'!$I$20 -> 2363.9331
B14: 2016 | C14: ='Dados-IBGE'!$C$19+('Dados-IBGE'!$C$20*B14) -> 2370.5568 | D14: ='Dados-IBGE'!$E$19*(EXP('Dados-IBGE'!$E$20*'QuUr-IBGE'!B14)) -> 2371.055 | E14: ='Dados-IBGE'!$G$19+('Dados-IBGE'!$G$20*LN('QuUr-IBGE'!B14)) -> 2370.0357 | F14: ='Dados-IBGE'!$I$19*'QuUr-IBGE'!B14^'Dados-IBGE'!$I$20 -> 2370.506
B15: 2017 | C15: ='Dados-IBGE'!$C$19+('Dados-IBGE'!$C$20*B15) -> 2376.8303 | D15: ='Dados-IBGE'!$E$19*(EXP('Dados-IBGE'!$E$20*'QuUr-IBGE'!B15)) -> 2377.7126 | E15: ='Dados-IBGE'!$G$19+('Dados-IBGE'!$G$20*LN('QuUr-IBGE'!B15)) -> 2376.2449 | F15: ='Dados-IBGE'!$I$19*'QuUr-IBGE'!B15^'Dados-IBGE'!$I$20 -> 2377.0939
B16: 2018 | C16: ='Dados-IBGE'!$C$19+('Dados-IBGE'!$C$20*B16) -> 2383.1038 | D16: ='Dados-IBGE'!$E$19*(EXP('Dados-IBGE'!$E$20*'QuUr-IBGE'!B16)) -> 2384.3889 | E16: ='Dados-IBGE'!$G$19+('Dados-IBGE'!$G$20*LN('QuUr-IBGE'!B16)) -> 2382.4509 | F16: ='Dados-IBGE'!$I$19*'QuUr-IBGE'!B16^'Dados-IBGE'!$I$20 -> 2383.6968
B17: 2019 | C17: ='Dados-IBGE'!$C$19+('Dados-IBGE'!$C$20*B17) -> 2389.3773 | D17: ='Dados-IBGE'!$E$19*(EXP('Dados-IBGE'!$E$20*'QuUr-IBGE'!B17)) -> 2391.0839 | E17: ='Dados-IBGE'!$G$19+('Dados-IBGE'!$G$20*LN('QuUr-IBGE'!B17)) -> 2388.6539 | F17: ='Dados-IBGE'!$I$19*'QuUr-IBGE'!B17^'Dados-IBGE'!$I$20 -> 2390.3148
... B34: 2036 | C34: ='Dados-IBGE'!$C$19+('Dados-IBGE'!$C$20*B34) -> 2496.0264 | D34: ='Dados-IBGE'!$E$19*(EXP('Dados-IBGE'!$E$20*'QuUr-IBGE'!B34)) -> 2507.8191 | E34: ='Dados-IBGE'!$G$19+('Dados-IBGE'!$G$20*LN('QuUr-IBGE'!B34)) -> 2493.637 | F34: ='Dados-IBGE'!$I$19*'QuUr-IBGE'!B34^'Dados-IBGE'!$I$20 -> 2505.15

Sheet GrUr-IBGE
D4: Exponencial

Sheet Cr-IBGE
B2: 1. Nº de Ligações Urbana
C3: ='Dados-IBGE'!C22 -> 0.14039208 | D3: ='Dados-IBGE'!E22 -> 0.13912672 | E3: ='Dados-IBGE'!G22 -> 0.13970563 | F3: ='Dados-IBGE'!I22 -> 0.13845513 | G3: =MAX(C3:F3) -> 0.14039208
B4: Período | C4: Linear | D4: Exponencial | E4: Logarítmica | F4: Potência
B5: 2008/09 | C5: =('QuUr-IBGE'!$C7/'QuUr-IBGE'!$C6)-1 -> 0.0027036545 | D5: =('QuUr-IBGE'!$D7/'QuUr-IBGE'!$D6)-1 -> 0.0028078584 | E5: =('QuUr-IBGE'!$E7/'QuUr-IBGE'!$E6)-1 -> 0.0026867162 | F5: =('QuUr-IBGE'!$F7/'QuUr-IBGE'!$F6)-1 -> 0.0027901888
B6: 2009/10 | C6: =('QuUr-IBGE'!$C8/'QuUr-IBGE'!$C7)-1 -> 0.0026963644 | D6: =('QuUr-IBGE'!$D8/'QuUr-IBGE'!$D7)-1 -> 0.0028078584 | E6: =('QuUr-IBGE'!$E8/'QuUr-IBGE'!$E7)-1 -> 0.0026781836 | F6: =('QuUr-IBGE'!$F8/'QuUr-IBGE'!$F7)-1 -> 0.0027887983
B7: 2010/11 | C7: =('QuUr-IBGE'!$C9/'QuUr-IBGE'!$C8)-1 -> 0.0026891136 | D7: =('QuUr-IBGE'!$D9/'QuUr-IBGE'!$D8)-1 -> 0.0028078584 | E7: =('QuUr-IBGE'!$E9/'QuUr-IBGE'!$E8)-1 -> 0.0026697016 | F7: =('QuUr-IBGE'!$F9/'QuUr-IBGE'!$F8)-1 -> 0.0027874093
B8: 2011/12 | C8: =('QuUr-IBGE'!$C10/'QuUr-IBGE'!$C9)-1 -> 0.0026819017 | D8: =('QuUr-IBGE'!$D10/'QuUr-IBGE'!$D9)-1 -> 0.0028078584 | E8: =('QuUr-IBGE'!$E10/'QuUr-IBGE'!$E9)-1 -> 0.0026612696 | F8: =('QuUr-IBGE'!$F10/'QuUr-IBGE'!$F9)-1 -> 0.0027860216
B9: 2012/13 | C9: =('QuUr-IBGE'!$C11/'QuUr-IBGE'!$C10)-1 -> 0.0026747283 | D9: =('QuUr-IBGE'!$D11/'QuUr-IBGE'!$D10)-1 -> 0.0028078584 | E9: =('QuUr-IBGE'!$E11/'QuUr-IBGE'!$E10)-1 -> 0.0026528872 | F9: =('QuUr-IBGE'!$F11/'QuUr-IBGE'!$F10)-1 -> 0.0027846353
B10: 2013/14 | C10: =('QuUr-IBGE'!$C12/'QuUr-IBGE'!$C11)-1 -> 0.0026675932 | D10: =('QuUr-IBGE'!$D12/'QuUr-IBGE'!$D11)-1 -> 0.0028078584 | E10: =('QuUr-IBGE'!$E12/'QuUr-IBGE'!$E11)-1 -> 0.0026445539 | F10: =('QuUr-IBGE'!$F12/'QuUr-IBGE'!$F11)-1 -> 0.0027832504
B11: 2014/15 | C11: =('QuUr-IBGE'!$C13/'QuUr-IBGE'!$C12)-1 -> 0.0026604961 | D11: =('QuUr-IBGE'!$D13/'QuUr-IBGE'!$D12)-1 -> 0.0028078584 | E11: =('QuUr-IBGE'!$E13/'QuUr-IBGE'!$E12)-1 -> 0.0026362694 | F11: =('QuUr-IBGE'!$F13/'QuUr-IBGE'!$F12)-1 -> 0.0027818669
B12: 2015/16 | C12: =('QuUr-IBGE'!$C14/'QuUr-IBGE'!$C13)-1 -> 0.0026534366 | D12: =('QuUr-IBGE'!$D14/'QuUr-IBGE'!$D13)-1 -> 0.0028078584 | E12: =('QuUr-IBGE'!$E14/'QuUr-IBGE'!$E13)-1 -> 0.0026280332 | F12: =('QuUr-IBGE'!$F14/'QuUr-IBGE'!$F13)-1 -> 0.0027804848
B13: 2016/17 | C13: =('QuUr-IBGE'!$C15/'QuUr-IBGE'!$C14)-1 -> 0.0026464146 | D13: =('QuUr-IBGE'!$D15/'QuUr-IBGE'!$D14)-1 -> 0.0028078584 | E13: =('QuUr-IBGE'!$E15/'QuUr-IBGE'!$E14)-1 -> 0.0026198449 | F13: =('QuUr-IBGE'!$F15/'QuUr-IBGE'!$F14)-1 -> 0.002779104
B14: 2017/18 | C14: =('QuUr-IBGE'!$C16/'QuUr-IBGE'!$C15)-1 -> 0.0026394295 | D14: =('QuUr-IBGE'!$D16/'QuUr-IBGE'!$D15)-1 -> 0.0028078584 | E14: =('QuUr-IBGE'!$E16/'QuUr-IBGE'!$E15)-1 -> 0.0026117041 | F14: =('QuUr-IBGE'!$F16/'QuUr-IBGE'!$F15)-1 -> 0.0027777246
B15: 2018/19 | C15: =('QuUr-IBGE'!$C17/'QuUr-IBGE'!$C16)-1 -> 0.0026324813 | D15: =('QuUr-IBGE'!$D17/'QuUr-IBGE'!$D16)-1 -> 0.0028078584 | E15: =('QuUr-IBGE'!$E17/'QuUr-IBGE'!$E16)-1 -> 0.0026036103 | F15: =('QuUr-IBGE'!$F17/'QuUr-IBGE'!$F16)-1 -> 0.0027763465
B16: 2019/20 | C16: =('QuUr-IBGE'!$C18/'QuUr-IBGE'!$C17)-1 -> 0.0026255695 | D16: =('QuUr-IBGE'!$D18/'QuUr-IBGE'!$D17)-1 -> 0.0028078584 | E16: =('QuUr-IBGE'!$E18/'QuUr-IBGE'!$E17)-1 -> 0.0025955632 | F16: =('QuUr-IBGE'!$F18/'QuUr-IBGE'!$F17)-1 -> 0.0027749698
... B32: 2035/36 | C32: =('QuUr-IBGE'!$C34/'QuUr-IBGE'!$C33)-1 -> 0.0025197184 | D32: =('QuUr-IBGE'!$D34/'QuUr-IBGE'!$D33)-1 -> 0.0028078584 | E32: =('QuUr-IBGE'!$E34/'QuUr-IBGE'!$E33)-1 -> 0.0024728455 | F32: =('QuUr-IBGE'!$F34/'QuUr-IBGE'!$F33)-1 -> 0.0027531273

Sheet Dados-COPEL
E2: 1. Nº de Ligações Urbana
B4: Taxa de | C4: N° Ligações | E4: Linear | G4: Exponencial | I4: Logaritmica | K4: Potência
B5: Ocupação | C5: Residenciais | E5: x | F5: y | G5: x | H5: ln y | I5: ln x | J5: y | K5: ln x | L5: ln y
B6: 3.02 | C6: 648 | E6: 1991 | F6: =C6*B6 -> 1956.96 | G6: =E6 -> 1991 | H6: =LN(F6) -> 7.5791475 | I6: =LN(E6) -> 7.5963923 | J6: =F6 -> 1956.96 | K6: =LN(E6) -> 7.5963923 | L6: =LN(F6) -> 7.5791475
B7: 3 | C7: 670 | E7: 1996 | F7: =C7*B7 -> 2010 | G7: =E7 -> 1996 | H7: =LN(F7) -> 7.60589 | I7: =LN(E7) -> 7.5989005 | J7: =F7 -> 2010 | K7: =LN(E7) -> 7.5989005 | L7: =LN(F7) -> 7.60589
B8: 2.9 | C8: 680 | E8: 2000 | F8: =C8*B8 -> 1972 | G8: =E8 -> 2000 | H8: =LN(F8) -> 7.5868035 | I8: =LN(E8) -> 7.6009025 | J8: =F8 -> 1972 | K8: =LN(E8) -> 7.6009025 | L8: =LN(F8) -> 7.5868035
B9: 2.8 | C9: 693 | E9: 2007 | F9: =C9*B9 -> 1940.4 | G9: =E9 -> 2007 | H9: =LN(F9) -> 7.5706494 | I9: =LN(E9) -> 7.6043963 | J9: =F9 -> 1940.4 | K9: =LN(E9) -> 7.6043963 | L9: =LN(F9) -> 7.5706494
B10: 2.7 | C10: 700 | E10: 2010 | F10: =C10*B10 -> 1890 | G10: =E10 -> 2010 | H10: =LN(F10) -> 7.5443321 | I10: =LN(E10) -> 7.60589 | J10: =F10 -> 1890 | K10: =LN(E10) -> 7.60589 | L10: =LN(F10) -> 7.5443321
E11: x = Ano
E12: y = População
E15: RESULTADOS
E16: Linear | G16: Exponencial | I16: Logarítmica | K16: Potência
C17: Intercepto h | E17: =INTERCEPT(F6:F10,E6:E10) -> 10073.494 | G17: =INTERCEPT(H6:H10,G6:G10) -> 11.759258 | I17: =INTERCEPT(J6:J10,I6:I10) -> 63600.825 | K17: =INTERCEPT(L6:L10,K6:K10) -> 39.327837
C18: Declividade k | E18: =SLOPE(F6:F10,E6:E10) -> -4.0581878 | G18: =SLOPE(H6:H10,G6:G10) -> -0.0020901105 | I18: =SLOPE(J6:J10,I6:I10) -> -8110.0579 | K18: =SLOPE(L6:L10,K6:K10) -> -4.1769813
C19: Coeficiente a | E19: =E17 -> 10073.494 | G19: =EXP(G17) -> 127932.44 | I19: =I17 -> 63600.825 | K19: =EXP(K17) -> 1.2018844e+17
C20: Coeficiente b | E20: =E18 -> -4.0581878 | G20: =G18 -> -0.0020901105 | I20: =I18 -> -8110.0579 | K20: =K18 -> -4.1769813
C21: r² | E21: =RSQ(F6:F10,E6:E10) -> 0.51597832 | G21: =RSQ(H6:H10,G6:G10) -> 0.51938185 | I21: =RSQ(J6:J10,I6:I10) -> 0.51480823 | K21: =RSQ(L6:L10,K6:K10) -> 0.51820756
E22: =E21 -> 0.51597832 | G22: =G21 -> 0.51938185 | I22: =I21 -> 0.51480823 | K22: =K21 -> 0.51820756

Sheet QuUr-COPEL
B2: 1. Projeção Número de ligações - População Urbana
B4: Ano | C4: Linear | D4: Exponencial | E4: Logarítmica | F4: Potência
C5: ='Dados-COPEL'!E22 -> 0.51597832 | D5: ='Dados-COPEL'!G22 -> 0.51938185 | E5: ='Dados-COPEL'!I22 -> 0.51480823 | F5: ='Dados-COPEL'!K22 -> 0.51820756 | G5: =MAX(C5:F5) -> 0.51938185
B6: 2008 | C6: ='Dados-COPEL'!$E$19+('Dados-COPEL'!$E$20*B6) -> 1924.653 | D6: ='Dados-COPEL'!$G$19*(EXP('Dados-COPEL'!$G$20*'QuUr-COPEL'!B6)) -> 1924.2965 | E6: ='Dados-COPEL'!$I$19+('Dados-COPEL'!$I$20*LN('QuUr-COPEL'!B6)) -> 1924.6907 | F6: ='Dados-COPEL'!$K$19*'QuUr-COPEL'!B6^'Dados-COPEL'!$K$20 -> 1924.3337
B7: 2009 | C7: ='Dados-COPEL'!$E$19+('Dados-COPEL'!$E$20*B7) -> 1920.5949 | D7: ='Dados-COPEL'!$G$19*(EXP('Dados-COPEL'!$G$20*'QuUr-COPEL'!B7)) -> 1920.2787 | E7: ='Dados-COPEL'!$I$19+('Dados-COPEL'!$I$20*LN('QuUr-COPEL'!B7)) -> 1920.6528 | F7: ='Dados-COPEL'!$K$19*'QuUr-COPEL'!B7^'Dados-COPEL'!$K$20 -> 1920.3359
B8: 2010 | C8: ='Dados-COPEL'!$E$19+('Dados-COPEL'!$E$20*B8) -> 1916.5367 | D8: ='Dados-COPEL'!$G$19*(EXP('Dados-COPEL'!$G$20*'QuUr-COPEL'!B8)) -> 1916.2693 | E8: ='Dados-COPEL'!$I$19+('Dados-COPEL'!$I$20*LN('QuUr-COPEL'!B8)) -> 1916.6169 | F8: ='Dados-COPEL'!$K$19*'QuUr-COPEL'!B8^'Dados-COPEL'!$K$20 -> 1916.3484
B9: 2011 | C9: ='Dados-COPEL'!$E$19+('Dados-COPEL'!$E$20*B9) -> 1912.4785 | D9: ='Dados-COPEL'!$G$19*(EXP('Dados-COPEL'!$G$20*'QuUr-COPEL'!B9)) -> 1912.2683 | E9: ='Dados-COPEL'!$I$19+('Dados-COPEL'!$I$20*LN('QuUr-COPEL'!B9)) -> 1912.5831 | F9: ='Dados-COPEL'!$K$19*'QuUr-COPEL'!B9^'Dados-COPEL'!$K$20 -> 1912.3711
B10: 2012 | C10: ='Dados-COPEL'!$E$19+('Dados-COPEL'!$E$20*B10) -> 1908.4203 | D10: ='Dados-COPEL'!$G$19*(EXP('Dados-COPEL'!$G$20*'QuUr-COPEL'!B10)) -> 1908.2756 | E10: ='Dados-COPEL'!$I$19+('Dados-COPEL'!$I$20*LN('QuUr-COPEL'!B10)) -> 1908.5512 | F10: ='Dados-COPEL'!$K$19*'QuUr-COPEL'!B10^'Dados-COPEL'!$K$20 -> 1908.4041
B11: 2013 | C11: ='Dados-COPEL'!$E$19+('Dados-COPEL'!$E$20*B11) -> 1904.3621 | D11: ='Dados-COPEL'!$G$19*(EXP('Dados-COPEL'!$G$20*'QuUr-COPEL'!B11)) -> 1904.2912 | E11: ='Dados-COPEL'!$I$19+('Dados-COPEL'!$I$20*LN('QuUr-COPEL'!B11)) -> 1904.5214 | F11: ='Dados-COPEL'!$K$19*'QuUr-COPEL'!B11^'Dados-COPEL'!$K$20 -> 1904.4473
B12: 2014 | C12: ='Dados-COPEL'!$E$19+('Dados-COPEL'!$E$20*B12) -> 1900.3039 | D12: ='Dados-COPEL'!$G$19*(EXP('Dados-COPEL'!$G$20*'QuUr-COPEL'!B12)) -> 1900.3152 | E12: ='Dados-COPEL'!$I$19+('Dados-COPEL'!$I$20*LN('QuUr-COPEL'!B12)) -> 1900.4936 | F12: ='Dados-COPEL'!$K$19*'QuUr-COPEL'!B12^'Dados-COPEL'!$K$20 -> 1900.5007
B13: 2015 | C13: ='Dados-COPEL'!$E$19+('Dados-COPEL'!$E$20*B13) -> 1896.2457 | D13: ='Dados-COPEL'!$G$19*(EXP('Dados-COPEL'!$G$20*'QuUr-COPEL'!B13)) -> 1896.3475 | E13: ='Dados-COPEL'!$I$19+('Dados-COPEL'!$I$20*LN('QuUr-COPEL'!B13)) -> 1896.4677 | F13: ='Dados-COPEL'!$K$19*'QuUr-COPEL'!B13^'Dados-COPEL'!$K$20 -> 1896.5641
B14: 2016 | C14: ='Dados-COPEL'!$E$19+('Dados-COPEL'!$E$20*B14) -> 1892.1875 | D14: ='Dados-COPEL'!$G$19*(EXP('Dados-COPEL'!$G$20*'QuUr-COPEL'!B14)) -> 1892.3881 | E14: ='Dados-COPEL'!$I$19+('Dados-COPEL'!$I$20*LN('QuUr-COPEL'!B14)) -> 1892.4439 | F14: ='Dados-COPEL'!$K$19*'QuUr-COPEL'!B14^'Dados-COPEL'!$K$20 -> 1892.6377
B15: 2017 | C15: ='Dados-COPEL'!$E$19+('Dados-COPEL'!$E$20*B15) -> 1888.1294 | D15: ='Dados-COPEL'!$G$19*(EXP('Dados-COPEL'!$G$20*'QuUr-COPEL'!B15)) -> 1888.4369 | E15: ='Dados-COPEL'!$I$19+('Dados-COPEL'!$I$20*LN('QuUr-COPEL'!B15)) -> 1888.422 | F15: ='Dados-COPEL'!$K$19*'QuUr-COPEL'!B15^'Dados-COPEL'!$K$20 -> 1888.7213
B16: 2018 | C16: ='Dados-COPEL'!$E$19+('Dados-COPEL'!$E$20*B16) -> 1884.0712 | D16: ='Dados-COPEL'!$G$19*(EXP('Dados-COPEL'!$G$20*'QuUr-COPEL'!B16)) -> 1884.494 | E16: ='Dados-COPEL'!$I$19+('Dados-COPEL'!$I$20*LN('QuUr-COPEL'!B16)) -> 1884.4022 | F16: ='Dados-COPEL'!$K$19*'QuUr-COPEL'!B16^'Dados-COPEL'!$K$20 -> 1884.815
B17: 2019 | C17: ='Dados-COPEL'!$E$19+('Dados-COPEL'!$E$20*B17) -> 1880.013 | D17: ='Dados-COPEL'!$G$19*(EXP('Dados-COPEL'!$G$20*'QuUr-COPEL'!B17)) -> 1880.5593 | E17: ='Dados-COPEL'!$I$19+('Dados-COPEL'!$I$20*LN('QuUr-COPEL'!B17)) -> 1880.3843 | F17: ='Dados-COPEL'!$K$19*'QuUr-COPEL'!B17^'Dados-COPEL'!$K$20 -> 1880.9187
... B34: 2036 | C34: ='Dados-COPEL'!$E$19+('Dados-COPEL'!$E$20*B34) -> 1811.0238 | D34: ='Dados-COPEL'!$G$19*(EXP('Dados-COPEL'!$G$20*'QuUr-COPEL'!B34)) -> 1814.9127 | E34: ='Dados-COPEL'!$I$19+('Dados-COPEL'!$I$20*LN('QuUr-COPEL'!B34)) -> 1812.3834 | F34: ='Dados-COPEL'!$K$19*'QuUr-COPEL'!B34^'Dados-COPEL'!$K$20 -> 1816.1836

Sheet GrUr-COPEL
D4: Exponencial

Sheet Cr-COPEL
B2: 1. Nº de Ligações Urbana
C3: ='Dados-COPEL'!E22 -> 0.51597832 | D3: ='Dados-COPEL'!G22 -> 0.51938185 | E3: ='Dados-COPEL'!I22 -> 0.51480823 | F3: ='Dados-COPEL'!K22 -> 0.51820756 | G3: =MAX(C3:F3) -> 0.51938185
B4: Período | C4: Linear | D4: Exponencial | E4: Logarítmica | F4: Potência
B5: 2008/09 | C5: =('QuUr-COPEL'!C7/'QuUr-COPEL'!C6)-1 -> -0.0021085295 | D5: =('QuUr-COPEL'!D7/'QuUr-COPEL'!D6)-1 -> -0.0020879277 | E5: =('QuUr-COPEL'!E7/'QuUr-COPEL'!E6)-1 -> -0.0020979309 | F5: =('QuUr-COPEL'!F7/'QuUr-COPEL'!F6)-1 -> -0.0020774912
B6: 2009/10 | C6: =('QuUr-COPEL'!C8/'QuUr-COPEL'!C7)-1 -> -0.0021129848 | D6: =('QuUr-COPEL'!D8/'QuUr-COPEL'!D7)-1 -> -0.0020879277 | E6: =('QuUr-COPEL'!E8/'QuUr-COPEL'!E7)-1 -> -0.0021012953 | F6: =('QuUr-COPEL'!F8/'QuUr-COPEL'!F7)-1 -> -0.0020764584
B7: 2010/11 | C7: =('QuUr-COPEL'!C9/'QuUr-COPEL'!C8)-1 -> -0.002117459 | D7: =('QuUr-COPEL'!D9/'QuUr-COPEL'!D8)-1 -> -0.0020879277 | E7: =('QuUr-COPEL'!E9/'QuUr-COPEL'!E8)-1 -> -0.0021046727 | F7: =('QuUr-COPEL'!F9/'QuUr-COPEL'!F8)-1 -> -0.0020754267
B8: 2011/12 | C8: =('QuUr-COPEL'!C10/'QuUr-COPEL'!C9)-1 -> -0.0021219521 | D8: =('QuUr-COPEL'!D10/'QuUr-COPEL'!D9)-1 -> -0.0020879277 | E8: =('QuUr-COPEL'!E10/'QuUr-COPEL'!E9)-1 -> -0.0021080631 | F8: =('QuUr-COPEL'!F10/'QuUr-COPEL'!F9)-1 -> -0.002074396
B9: 2012/13 | C9: =('QuUr-COPEL'!C11/'QuUr-COPEL'!C10)-1 -> -0.0021264644 | D9: =('QuUr-COPEL'!D11/'QuUr-COPEL'!D10)-1 -> -0.0020879277 | E9: =('QuUr-COPEL'!E11/'QuUr-COPEL'!E10)-1 -> -0.0021114668 | F9: =('QuUr-COPEL'!F11/'QuUr-COPEL'!F10)-1 -> -0.0020733663
B10: 2013/14 | C10: =('QuUr-COPEL'!C12/'QuUr-COPEL'!C11)-1 -> -0.0021309959 | D10: =('QuUr-COPEL'!D12/'QuUr-COPEL'!D11)-1 -> -0.0020879277 | E10: =('QuUr-COPEL'!E12/'QuUr-COPEL'!E11)-1 -> -0.0021148836 | F10: =('QuUr-COPEL'!F12/'QuUr-COPEL'!F11)-1 -> -0.0020723376
B11: 2014/15 | C11: =('QuUr-COPEL'!C13/'QuUr-COPEL'!C12)-1 -> -0.0021355467 | D11: =('QuUr-COPEL'!D13/'QuUr-COPEL'!D12)-1 -> -0.0020879277 | E11: =('QuUr-COPEL'!E13/'QuUr-COPEL'!E12)-1 -> -0.0021183138 | F11: =('QuUr-COPEL'!F13/'QuUr-COPEL'!F12)-1 -> -0.00207131
B12: 2015/16 | C12: =('QuUr-COPEL'!C14/'QuUr-COPEL'!C13)-1 -> -0.002140117 | D12: =('QuUr-COPEL'!D14/'QuUr-COPEL'!D13)-1 -> -0.0020879277 | E12: =('QuUr-COPEL'!E14/'QuUr-COPEL'!E13)-1 -> -0.0021217573 | F12: =('QuUr-COPEL'!F14/'QuUr-COPEL'!F13)-1 -> -0.0020702834
B13: 2016/17 | C13: =('QuUr-COPEL'!C15/'QuUr-COPEL'!C14)-1 -> -0.002144707 | D13: =('QuUr-COPEL'!D15/'QuUr-COPEL'!D14)-1 -> -0.0020879277 | E13: =('QuUr-COPEL'!E15/'QuUr-COPEL'!E14)-1 -> -0.0021252143 | F13: =('QuUr-COPEL'!F15/'QuUr-COPEL'!F14)-1 -> -0.0020692578
B14: 2017/18 | C14: =('QuUr-COPEL'!C16/'QuUr-COPEL'!C15)-1 -> -0.0021493166 | D14: =('QuUr-COPEL'!D16/'QuUr-COPEL'!D15)-1 -> -0.0020879277 | E14: =('QuUr-COPEL'!E16/'QuUr-COPEL'!E15)-1 -> -0.0021286848 | F14: =('QuUr-COPEL'!F16/'QuUr-COPEL'!F15)-1 -> -0.0020682332
B15: 2018/19 | C15: =('QuUr-COPEL'!C17/'QuUr-COPEL'!C16)-1 -> -0.0021539461 | D15: =('QuUr-COPEL'!D17/'QuUr-COPEL'!D16)-1 -> -0.0020879277 | E15: =('QuUr-COPEL'!E17/'QuUr-COPEL'!E16)-1 -> -0.002132169 | F15: =('QuUr-COPEL'!F17/'QuUr-COPEL'!F16)-1 -> -0.0020672096
B16: 2019/20 | C16: =('QuUr-COPEL'!C18/'QuUr-COPEL'!C17)-1 -> -0.0021585956 | D16: =('QuUr-COPEL'!D18/'QuUr-COPEL'!D17)-1 -> -0.0020879277 | E16: =('QuUr-COPEL'!E18/'QuUr-COPEL'!E17)-1 -> -0.0021356668 | F16: =('QuUr-COPEL'!F18/'QuUr-COPEL'!F17)-1 -> -0.002066187
... B32: 2035/36 | C32: =('QuUr-COPEL'!C34/'QuUr-COPEL'!C33)-1 -> -0.0022358152 | D32: =('QuUr-COPEL'!D34/'QuUr-COPEL'!D33)-1 -> -0.0020879277 | E32: =('QuUr-COPEL'!E34/'QuUr-COPEL'!E33)-1 -> -0.0021935578 | F32: =('QuUr-COPEL'!F34/'QuUr-COPEL'!F33)-1 -> -0.0020499625

Sheet Dados-SANEPAR
E2: 1. Nº de Ligações Urbana
B4: Taxa de | C4: N° Ligações | E4: Linear | G4: Exponencial | I4: Logaritmica | K4: Potência
B5: Ocupação | C5: Residenciais | E5: x | F5: y | G5: x | H5: ln y | I5: ln x | J5: y | K5: ln x | L5: ln y
B6: 3.02 | C6: 680 | E6: 1991 | F6: =C6*B6 -> 2053.6 | G6: =E6 -> 1991 | H6: =LN(F6) -> 7.6273496 | I6: =LN(E6) -> 7.5963923 | J6: =F6 -> 2053.6 | K6: =LN(E6) -> 7.5963923 | L6: =LN(F6) -> 7.6273496
B7: 3 | C7: 740 | E7: 1996 | F7: =C7*B7 -> 2220 | G7: =E7 -> 1996 | H7: =LN(F7) -> 7.7052625 | I7: =LN(E7) -> 7.5989005 | J7: =F7 -> 2220 | K7: =LN(E7) -> 7.5989005 | L7: =LN(F7) -> 7.7052625
B8: 2.9 | C8: 748 | E8: 2000 | F8: =C8*B8 -> 2169.2 | G8: =E8 -> 2000 | H8: =LN(F8) -> 7.6821137 | I8: =LN(E8) -> 7.6009025 | J8: =F8 -> 2169.2 | K8: =LN(E8) -> 7.6009025 | L8: =LN(F8) -> 7.6821137
B9: 2.8 | C9: 750 | E9: 2007 | F9: =C9*B9 -> 2100 | G9: =E9 -> 2007 | H9: =LN(F9) -> 7.6496926 | I9: =LN(E9) -> 7.6043963 | J9: =F9 -> 2100 | K9: =LN(E9) -> 7.6043963 | L9: =LN(F9) -> 7.6496926
B10: 2.7 | C10: 750 | E10: 2010 | F10: =C10*B10 -> 2025 | G10: =E10 -> 2010 | H10: =LN(F10) -> 7.613325 | I10: =LN(E10) -> 7.60589 | J10: =F10 -> 2025 | K10: =LN(E10) -> 7.60589 | L10: =LN(F10) -> 7.613325
E11: x = Ano
E12: y = População
E15: RESULTADOS
E16: Linear | G16: Exponencial | I16: Logarítmica | K16: Potência
C17: Intercepto h | E17: =INTERCEPT(F6:F10,E6:E10) -> 9255.1305 | G17: =INTERCEPT(H6:H10,G6:G10) -> 11.020099 | I17: =INTERCEPT(J6:J10,I6:I10) -> 56217.502 | K17: =INTERCEPT(L6:L10,K6:K10) -> 33.144684
C18: Declividade k | E18: =SLOPE(F6:F10,E6:E10) -> -3.5693575 | G18: =SLOPE(H6:H10,G6:G10) -> -0.0016816027 | I18: =SLOPE(J6:J10,I6:I10) -> -7117.7257 | K18: =SLOPE(L6:L10,K6:K10) -> -3.3532616
C19: Coeficiente a | E19: =E17 -> 9255.1305 | G19: =EXP(G17) -> 61089.753 | I19: =I17 -> 56217.502 | K19: =EXP(K17) -> 2.4805807e+14
C20: Coeficiente b | E20: =E18 -> -3.5693575 | G20: =G18 -> -0.0016816027 | I20: =I18 -> -7117.7257 | K20: =K18 -> -3.3532616
C21: r² | E21: =RSQ(F6:F10,E6:E10) -> 0.11875918 | G21: =RSQ(H6:H10,G6:G10) -> 0.11859208 | I21: =RSQ(J6:J10,I6:I10) -> 0.11797772 | K21: =RSQ(L6:L10,K6:K10) -> 0.11780783
E22: =E21 -> 0.11875918 | G22: =G21 -> 0.11859208 | I22: =I21 -> 0.11797772 | K22: =K21 -> 0.11780783

Sheet QuUr-SANEPAR
B2: 1. Projeção Número de ligações - População Urbana
B4: Ano | C4: Linear | D4: Exponencial | E4: Logarítmica | F4: Potência
C5: ='Dados-SANEPAR'!E22 -> 0.11875918 | D5: ='Dados-SANEPAR'!G22 -> 0.11859208 | E5: ='Dados-SANEPAR'!I22 -> 0.11797772 | F5: ='Dados-SANEPAR'!K22 -> 0.11780783 | G5: =MAX(C5:F5) -> 0.11875918
B6: 2008 | C6: ='Dados-SANEPAR'!$E$19+('Dados-SANEPAR'!$E$20*B6) -> 2087.8606 | D6: ='Dados-SANEPAR'!$G$19*(EXP('Dados-SANEPAR'!$G$20*'QuUr-SANEPAR'!B6)) -> 2086.9128 | E6: ='Dados-SANEPAR'!$I$19+('Dados-SANEPAR'!$I$20*LN('QuUr-SANEPAR'!B6)) -> 2087.9492 | F6: ='Dados-SANEPAR'!$K$19*'QuUr-SANEPAR'!B6^'Dados-SANEPAR'!$K$20 -> 2087.0004
B7: 2009 | C7: ='Dados-SANEPAR'!$E$19+('Dados-SANEPAR'!$E$20*B7) -> 2084.2913 | D7: ='Dados-SANEPAR'!$G$19*(EXP('Dados-SANEPAR'!$G$20*'QuUr-SANEPAR'!B7)) -> 2083.4064 | E7: ='Dados-SANEPAR'!$I$19+('Dados-SANEPAR'!$I$20*LN('QuUr-SANEPAR'!B7)) -> 2084.4054 | F7: ='Dados-SANEPAR'!$K$19*'QuUr-SANEPAR'!B7^'Dados-SANEPAR'!$K$20 -> 2083.519
B8: 2010 | C8: ='Dados-SANEPAR'!$E$19+('Dados-SANEPAR'!$E$20*B8) -> 2080.7219 | D8: ='Dados-SANEPAR'!$G$19*(EXP('Dados-SANEPAR'!$G$20*'QuUr-SANEPAR'!B8)) -> 2079.9059 | E8: ='Dados-SANEPAR'!$I$19+('Dados-SANEPAR'!$I$20*LN('QuUr-SANEPAR'!B8)) -> 2080.8634 | F8: ='Dados-SANEPAR'!$K$19*'QuUr-SANEPAR'!B8^'Dados-SANEPAR'!$K$20 -> 2080.0451
B9: 2011 | C9: ='Dados-SANEPAR'!$E$19+('Dados-SANEPAR'!$E$20*B9) -> 2077.1526 | D9: ='Dados-SANEPAR'!$G$19*(EXP('Dados-SANEPAR'!$G$20*'QuUr-SANEPAR'!B9)) -> 2076.4113 | E9: ='Dados-SANEPAR'!$I$19+('Dados-SANEPAR'!$I$20*LN('QuUr-SANEPAR'!B9)) -> 2077.3231 | F9: ='Dados-SANEPAR'!$K$19*'QuUr-SANEPAR'!B9^'Dados-SANEPAR'!$K$20 -> 2076.5787
B10: 2012 | C10: ='Dados-SANEPAR'!$E$19+('Dados-SANEPAR'!$E$20*B10) -> 2073.5832 | D10: ='Dados-SANEPAR'!$G$19*(EXP('Dados-SANEPAR'!$G$20*'QuUr-SANEPAR'!B10)) -> 2072.9225 | E10: ='Dados-SANEPAR'!$I$19+('Dados-SANEPAR'!$I$20*LN('QuUr-SANEPAR'!B10)) -> 2073.7846 | F10: ='Dados-SANEPAR'!$K$19*'QuUr-SANEPAR'!B10^'Dados-SANEPAR'!$K$20 -> 2073.1199
B11: 2013 | C11: ='Dados-SANEPAR'!$E$19+('Dados-SANEPAR'!$E$20*B11) -> 2070.0138 | D11: ='Dados-SANEPAR'!$G$19*(EXP('Dados-SANEPAR'!$G$20*'QuUr-SANEPAR'!B11)) -> 2069.4396 | E11: ='Dados-SANEPAR'!$I$19+('Dados-SANEPAR'!$I$20*LN('QuUr-SANEPAR'!B11)) -> 2070.2478 | F11: ='Dados-SANEPAR'!$K$19*'QuUr-SANEPAR'!B11^'Dados-SANEPAR'!$K$20 -> 2069.6685
B12: 2014 | C12: ='Dados-SANEPAR'!$E$19+('Dados-SANEPAR'!$E$20*B12) -> 2066.4445 | D12: ='Dados-SANEPAR'!$G$19*(EXP('Dados-SANEPAR'!$G$20*'QuUr-SANEPAR'!B12)) -> 2065.9626 | E12: ='Dados-SANEPAR'!$I$19+('Dados-SANEPAR'!$I$20*LN('QuUr-SANEPAR'!B12)) -> 2066.7128 | F12: ='Dados-SANEPAR'!$K$19*'QuUr-SANEPAR'!B12^'Dados-SANEPAR'!$K$20 -> 2066.2245
B13: 2015 | C13: ='Dados-SANEPAR'!$E$19+('Dados-SANEPAR'!$E$20*B13) -> 2062.8751 | D13: ='Dados-SANEPAR'!$G$19*(EXP('Dados-SANEPAR'!$G$20*'QuUr-SANEPAR'!B13)) -> 2062.4914 | E13: ='Dados-SANEPAR'!$I$19+('Dados-SANEPAR'!$I$20*LN('QuUr-SANEPAR'!B13)) -> 2063.1796 | F13: ='Dados-SANEPAR'!$K$19*'QuUr-SANEPAR'!B13^'Dados-SANEPAR'!$K$20 -> 2062.788
B14: 2016 | C14: ='Dados-SANEPAR'!$E$19+('Dados-SANEPAR'!$E$20*B14) -> 2059.3058 | D14: ='Dados-SANEPAR'!$G$19*(EXP('Dados-SANEPAR'!$G$20*'QuUr-SANEPAR'!B14)) -> 2059.026 | E14: ='Dados-SANEPAR'!$I$19+('Dados-SANEPAR'!$I$20*LN('QuUr-SANEPAR'!B14)) -> 2059.6481 | F14: ='Dados-SANEPAR'!$K$19*'QuUr-SANEPAR'!B14^'Dados-SANEPAR'!$K$20 -> 2059.359
B15: 2017 | C15: ='Dados-SANEPAR'!$E$19+('Dados-SANEPAR'!$E$20*B15) -> 2055.7364 | D15: ='Dados-SANEPAR'!$G$19*(EXP('Dados-SANEPAR'!$G$20*'QuUr-SANEPAR'!B15)) -> 2055.5664 | E15: ='Dados-SANEPAR'!$I$19+('Dados-SANEPAR'!$I$20*LN('QuUr-SANEPAR'!B15)) -> 2056.1184 | F15: ='Dados-SANEPAR'!$K$19*'QuUr-SANEPAR'!B15^'Dados-SANEPAR'!$K$20 -> 2055.9373
B16: 2018 | C16: ='Dados-SANEPAR'!$E$19+('Dados-SANEPAR'!$E$20*B16) -> 2052.1671 | D16: ='Dados-SANEPAR'!$G$19*(EXP('Dados-SANEPAR'!$G$20*'QuUr-SANEPAR'!B16)) -> 2052.1127 | E16: ='Dados-SANEPAR'!$I$19+('Dados-SANEPAR'!$I$20*LN('QuUr-SANEPAR'!B16)) -> 2052.5904 | F16: ='Dados-SANEPAR'!$K$19*'QuUr-SANEPAR'!B16^'Dados-SANEPAR'!$K$20 -> 2052.523
B17: 2019 | C17: ='Dados-SANEPAR'!$E$19+('Dados-SANEPAR'!$E$20*B17) -> 2048.5977 | D17: ='Dados-SANEPAR'!$G$19*(EXP('Dados-SANEPAR'!$G$20*'QuUr-SANEPAR'!B17)) -> 2048.6647 | E17: ='Dados-SANEPAR'!$I$19+('Dados-SANEPAR'!$I$20*LN('QuUr-SANEPAR'!B17)) -> 2049.0641 | F17: ='Dados-SANEPAR'!$K$19*'QuUr-SANEPAR'!B17^'Dados-SANEPAR'!$K$20 -> 2049.116
... B34: 2036 | C34: ='Dados-SANEPAR'!$E$19+('Dados-SANEPAR'!$E$20*B34) -> 1987.9186 | D34: ='Dados-SANEPAR'!$G$19*(EXP('Dados-SANEPAR'!$G$20*'QuUr-SANEPAR'!B34)) -> 1990.9283 | E34: ='Dados-SANEPAR'!$I$19+('Dados-SANEPAR'!$I$20*LN('QuUr-SANEPAR'!B34)) -> 1989.3837 | F34: ='Dados-SANEPAR'!$K$19*'QuUr-SANEPAR'!B34^'Dados-SANEPAR'!$K$20 -> 1992.3049

Sheet GrUr-SANEPAR
D4: Exponencial

Sheet Cr-SANEPAR
B2: 1. Nº de Ligações Urbana
C3: ='Dados-SANEPAR'!E22 -> 0.11875918 | D3: ='Dados-SANEPAR'!G22 -> 0.11859208 | E3: ='Dados-SANEPAR'!I22 -> 0.11797772 | F3: ='Dados-SANEPAR'!K22 -> 0.11780783 | G3: =MAX(C3:F3) -> 0.11875918
B4: Período | C4: Linear | D4: Exponencial | E4: Logarítmica | F4: Potência
B5: 2008/09 | C5: =('QuUr-SANEPAR'!C7/'QuUr-SANEPAR'!C6)-1 -> -0.0017095765 | D5: =('QuUr-SANEPAR'!D7/'QuUr-SANEPAR'!D6)-1 -> -0.0016801896 | E5: =('QuUr-SANEPAR'!E7/'QuUr-SANEPAR'!E6)-1 -> -0.0016972643 | F5: =('QuUr-SANEPAR'!F7/'QuUr-SANEPAR'!F6)-1 -> -0.0016681424
B6: 2009/10 | C6: =('QuUr-SANEPAR'!C8/'QuUr-SANEPAR'!C7)-1 -> -0.0017125042 | D6: =('QuUr-SANEPAR'!D8/'QuUr-SANEPAR'!D7)-1 -> -0.0016801896 | E6: =('QuUr-SANEPAR'!E8/'QuUr-SANEPAR'!E7)-1 -> -0.0016993039 | F6: =('QuUr-SANEPAR'!F8/'QuUr-SANEPAR'!F7)-1 -> -0.001667313
B7: 2010/11 | C7: =('QuUr-SANEPAR'!C9/'QuUr-SANEPAR'!C8)-1 -> -0.0017154419 | D7: =('QuUr-SANEPAR'!D9/'QuUr-SANEPAR'!D8)-1 -> -0.0016801896 | E7: =('QuUr-SANEPAR'!E9/'QuUr-SANEPAR'!E8)-1 -> -0.0017013498 | F7: =('QuUr-SANEPAR'!F9/'QuUr-SANEPAR'!F8)-1 -> -0.0016664844
B8: 2011/12 | C8: =('QuUr-SANEPAR'!C10/'QuUr-SANEPAR'!C9)-1 -> -0.0017183897 | D8: =('QuUr-SANEPAR'!D10/'QuUr-SANEPAR'!D9)-1 -> -0.0016801896 | E8: =('QuUr-SANEPAR'!E10/'QuUr-SANEPAR'!E9)-1 -> -0.001703402 | F8: =('QuUr-SANEPAR'!F10/'QuUr-SANEPAR'!F9)-1 -> -0.0016656566
B9: 2012/13 | C9: =('QuUr-SANEPAR'!C11/'QuUr-SANEPAR'!C10)-1 -> -0.0017213476 | D9: =('QuUr-SANEPAR'!D11/'QuUr-SANEPAR'!D10)-1 -> -0.0016801896 | E9: =('QuUr-SANEPAR'!E11/'QuUr-SANEPAR'!E10)-1 -> -0.0017054607 | F9: =('QuUr-SANEPAR'!F11/'QuUr-SANEPAR'!F10)-1 -> -0.0016648296
B10: 2013/14 | C10: =('QuUr-SANEPAR'!C12/'QuUr-SANEPAR'!C11)-1 -> -0.0017243158 | D10: =('QuUr-SANEPAR'!D12/'QuUr-SANEPAR'!D11)-1 -> -0.0016801896 | E10: =('QuUr-SANEPAR'!E12/'QuUr-SANEPAR'!E11)-1 -> -0.0017075258 | F10: =('QuUr-SANEPAR'!F12/'QuUr-SANEPAR'!F11)-1 -> -0.0016640035
B11: 2014/15 | C11: =('QuUr-SANEPAR'!C13/'QuUr-SANEPAR'!C12)-1 -> -0.0017272942 | D11: =('QuUr-SANEPAR'!D13/'QuUr-SANEPAR'!D12)-1 -> -0.0016801896 | E11: =('QuUr-SANEPAR'!E13/'QuUr-SANEPAR'!E12)-1 -> -0.0017095974 | F11: =('QuUr-SANEPAR'!F13/'QuUr-SANEPAR'!F12)-1 -> -0.0016631782
B12: 2015/16 | C12: =('QuUr-SANEPAR'!C14/'QuUr-SANEPAR'!C13)-1 -> -0.0017302829 | D12: =('QuUr-SANEPAR'!D14/'QuUr-SANEPAR'!D13)-1 -> -0.0016801896 | E12: =('QuUr-SANEPAR'!E14/'QuUr-SANEPAR'!E13)-1 -> -0.0017116754 | F12: =('QuUr-SANEPAR'!F14/'QuUr-SANEPAR'!F13)-1 -> -0.0016623536
B13: 2016/17 | C13: =('QuUr-SANEPAR'!C15/'QuUr-SANEPAR'!C14)-1 -> -0.0017332819 | D13: =('QuUr-SANEPAR'!D15/'QuUr-SANEPAR'!D14)-1 -> -0.0016801896 | E13: =('QuUr-SANEPAR'!E15/'QuUr-SANEPAR'!E14)-1 -> -0.00171376 | F13: =('QuUr-SANEPAR'!F15/'QuUr-SANEPAR'!F14)-1 -> -0.00166153
B14: 2017/18 | C14: =('QuUr-SANEPAR'!C16/'QuUr-SANEPAR'!C15)-1 -> -0.0017362914 | D14: =('QuUr-SANEPAR'!D16/'QuUr-SANEPAR'!D15)-1 -> -0.0016801896 | E14: =('QuUr-SANEPAR'!E16/'QuUr-SANEPAR'!E15)-1 -> -0.0017158511 | F14: =('QuUr-SANEPAR'!F16/'QuUr-SANEPAR'!F15)-1 -> -0.0016607071
B15: 2018/19 | C15: =('QuUr-SANEPAR'!C17/'QuUr-SANEPAR'!C16)-1 -> -0.0017393114 | D15: =('QuUr-SANEPAR'!D17/'QuUr-SANEPAR'!D16)-1 -> -0.0016801896 | E15: =('QuUr-SANEPAR'!E17/'QuUr-SANEPAR'!E16)-1 -> -0.0017179488 | F15: =('QuUr-SANEPAR'!F17/'QuUr-SANEPAR'!F16)-1 -> -0.001659885
B16: 2019/20 | C16: =('QuUr-SANEPAR'!C18/'QuUr-SANEPAR'!C17)-1 -> -0.0017423419 | D16: =('QuUr-SANEPAR'!D18/'QuUr-SANEPAR'!D17)-1 -> -0.0016801896 | E16: =('QuUr-SANEPAR'!E18/'QuUr-SANEPAR'!E17)-1 -> -0.0017200531 | F16: =('QuUr-SANEPAR'!F18/'QuUr-SANEPAR'!F17)-1 -> -0.0016590638
... B32: 2035/36 | C32: =('QuUr-SANEPAR'!C34/'QuUr-SANEPAR'!C33)-1 -> -0.0017923068 | D32: =('QuUr-SANEPAR'!D34/'QuUr-SANEPAR'!D33)-1 -> -0.0016801896 | E32: =('QuUr-SANEPAR'!E34/'QuUr-SANEPAR'!E33)-1 -> -0.0017546435 | F32: =('QuUr-SANEPAR'!F34/'QuUr-SANEPAR'!F33)-1 -> -0.0016460335

Sheet MÉDIA
B2: CIDADE
B3: ANO | C3: IBGE | E3: COPEL | G3: SANEPAR | I3: MÉDIA | J3: POPULAÇÃO
C4: TC | D4: POP | E4: TC | F4: POP | G4: TC | H4: POP | I4: PONDERADA | J4: PROJETADA
B5: 2008 | C5: =IF('Cr-IBGE'!$C$3='Cr-IBGE'!$G$3,'Cr-IBGE'!C5,IF('Cr-IBGE'!$D$3='Cr-IBGE'!$G$3,'Cr-IBGE'!D5,IF('Cr-IBGE'!$E$3='Cr-IBGE'!$G$3,'Cr-IBGE'!E5,'Cr-IBGE'!F5))) -> 0.0027036545 | D5: =IF('QuUr-IBGE'!$C$5='QuUr-IBGE'!$G$5,'QuUr-IBGE'!C6,IF('QuUr-IBGE'!$D$5='QuUr-IBGE'!$G$5,'QuUr-IBGE'!D6,IF('QuUr-IBGE'!$E$5='QuUr-IBGE'!$G$5,'QuUr-IBGE'!E6,'QuUr-IBGE'!F6))) -> 2320.369 | E5: =IF('Cr-COPEL'!$C$3='Cr-COPEL'!$G$3,'Cr-COPEL'!C5,IF('Cr-COPEL'!$D$3='Cr-COPEL'!$G$3,'Cr-COPEL'!D5,IF('Cr-COPEL'!$E$3='Cr-COPEL'!$G$3,'Cr-COPEL'!E5,'Cr-COPEL'!F5))) -> -0.0020879277 | F5: =IF('QuUr-COPEL'!$C$5='QuUr-COPEL'!$G$5,'QuUr-COPEL'!C6,IF('QuUr-COPEL'!$D$5='QuUr-COPEL'!$G$5,'QuUr-COPEL'!D6,IF('QuUr-COPEL'!$E$5='QuUr-COPEL'!$G$5,'QuUr-COPEL'!E6,'QuUr-COPEL'!F6))) -> 1924.2965 | G5: =IF('Cr-SANEPAR'!$C$3='Cr-SANEPAR'!$G$3,'Cr-SANEPAR'!C5,IF('Cr-SANEPAR'!$D$3='Cr-SANEPAR'!$G$3,'Cr-SANEPAR'!D5,IF('Cr-SANEPAR'!$E$3='Cr-SANEPAR'!$G$3,'Cr-SANEPAR'!E5,'Cr-SANEPAR'!F5))) -> -0.0017095765 | H5: =IF('QuUr-SANEPAR'!C5='QuUr-SANEPAR'!G5,'QuUr-SANEPAR'!C6,IF('QuUr-SANEPAR'!D5='QuUr-SANEPAR'!G5,'QuUr-SANEPAR'!D6,IF('QuUr-SANEPAR'!E5='QuUr-SANEPAR'!G5,'QuUr-SANEPAR'!E6,'QuUr-SANEPAR'!F6))) -> 2087.8606 | I5: =C5 -> 0.0027036545
B6: 2009 | C6: =IF('Cr-IBGE'!$C$3='Cr-IBGE'!$G$3,'Cr-IBGE'!C6,IF('Cr-IBGE'!$D$3='Cr-IBGE'!$G$3,'Cr-IBGE'!D6,IF('Cr-IBGE'!$E$3='Cr-IBGE'!$G$3,'Cr-IBGE'!E6,'Cr-IBGE'!F6))) -> 0.0026963644 | D6: =IF('QuUr-IBGE'!$C$5='QuUr-IBGE'!$G$5,'QuUr-IBGE'!C7,IF('QuUr-IBGE'!$D$5='QuUr-IBGE'!$G$5,'QuUr-IBGE'!D7,IF('QuUr-IBGE'!$E$5='QuUr-IBGE'!$G$5,'QuUr-IBGE'!E7,'QuUr-IBGE'!F7))) -> 2326.6425 | E6: =IF('Cr-COPEL'!$C$3='Cr-COPEL'!$G$3,'Cr-COPEL'!C6,IF('Cr-COPEL'!$D$3='Cr-COPEL'!$G$3,'Cr-COPEL'!D6,IF('Cr-COPEL'!$E$3='Cr-COPEL'!$G$3,'Cr-COPEL'!E6,'Cr-COPEL'!F6))) -> -0.0020879277 | F6: =IF('QuUr-COPEL'!$C$5='QuUr-COPEL'!$G$5,'QuUr-COPEL'!C7,IF('QuUr-COPEL'!$D$5='QuUr-COPEL'!$G$5,'QuUr-COPEL'!D7,IF('QuUr-COPEL'!$E$5='QuUr-COPEL'!$G$5,'QuUr-COPEL'!E7,'QuUr-COPEL'!F7))) -> 1920.2787 | G6: =IF('Cr-SANEPAR'!$C$3='Cr-SANEPAR'!$G$3,'Cr-SANEPAR'!C6,IF('Cr-SANEPAR'!$D$3='Cr-SANEPAR'!$G$3,'Cr-SANEPAR'!D6,IF('Cr-SANEPAR'!$E$3='Cr-SANEPAR'!$G$3,'Cr-SANEPAR'!E6,'Cr-SANEPAR'!F6))) -> -0.0017125042 | H6: =IF('QuUr-SANEPAR'!C6='QuUr-SANEPAR'!G6,'QuUr-SANEPAR'!C7,IF('QuUr-SANEPAR'!D6='QuUr-SANEPAR'!G6,'QuUr-SANEPAR'!D7,IF('QuUr-SANEPAR'!E6='QuUr-SANEPAR'!G6,'QuUr-SANEPAR'!E7,'QuUr-SANEPAR'!F7))) -> 2083.519 | I6: =C6 -> 0.0026963644
B7: 2010 | C7: =IF('Cr-IBGE'!$C$3='Cr-IBGE'!$G$3,'Cr-IBGE'!C7,IF('Cr-IBGE'!$D$3='Cr-IBGE'!$G$3,'Cr-IBGE'!D7,IF('Cr-IBGE'!$E$3='Cr-IBGE'!$G$3,'Cr-IBGE'!E7,'Cr-IBGE'!F7))) -> 0.0026891136 | D7: =IF('QuUr-IBGE'!$C$5='QuUr-IBGE'!$G$5,'QuUr-IBGE'!C8,IF('QuUr-IBGE'!$D$5='QuUr-IBGE'!$G$5,'QuUr-IBGE'!D8,IF('QuUr-IBGE'!$E$5='QuUr-IBGE'!$G$5,'QuUr-IBGE'!E8,'QuUr-IBGE'!F8))) -> 2332.916 | E7: =IF('Cr-COPEL'!$C$3='Cr-COPEL'!$G$3,'Cr-COPEL'!C7,IF('Cr-COPEL'!$D$3='Cr-COPEL'!$G$3,'Cr-COPEL'!D7,IF('Cr-COPEL'!$E$3='Cr-COPEL'!$G$3,'Cr-COPEL'!E7,'Cr-COPEL'!F7))) -> -0.0020879277 | F7: =IF('QuUr-COPEL'!$C$5='QuUr-COPEL'!$G$5,'QuUr-COPEL'!C8,IF('QuUr-COPEL'!$D$5='QuUr-COPEL'!$G$5,'QuUr-COPEL'!D8,IF('QuUr-COPEL'!$E$5='QuUr-COPEL'!$G$5,'QuUr-COPEL'!E8,'QuUr-COPEL'!F8))) -> 1916.2693 | G7: =IF('Cr-SANEPAR'!$C$3='Cr-SANEPAR'!$G$3,'Cr-SANEPAR'!C7,IF('Cr-SANEPAR'!$D$3='Cr-SANEPAR'!$G$3,'Cr-SANEPAR'!D7,IF('Cr-SANEPAR'!$E$3='Cr-SANEPAR'!$G$3,'Cr-SANEPAR'!E7,'Cr-SANEPAR'!F7))) -> -0.0017154419 | H7: =IF('QuUr-SANEPAR'!C7='QuUr-SANEPAR'!G7,'QuUr-SANEPAR'!C8,IF('QuUr-SANEPAR'!D7='QuUr-SANEPAR'!G7,'QuUr-SANEPAR'!D8,IF('QuUr-SANEPAR'!E7='QuUr-SANEPAR'!G7,'QuUr-SANEPAR'!E8,'QuUr-SANEPAR'!F8))) -> 2080.0451 | I7: =C7 -> 0.0026891136 | J7: =D7 -> 2332.916
B8: 2011 | C8: =IF('Cr-IBGE'!$C$3='Cr-IBGE'!$G$3,'Cr-IBGE'!C8,IF('Cr-IBGE'!$D$3='Cr-IBGE'!$G$3,'Cr-IBGE'!D8,IF('Cr-IBGE'!$E$3='Cr-IBGE'!$G$3,'Cr-IBGE'!E8,'Cr-IBGE'!F8))) -> 0.0026819017 | D8: =IF('QuUr-IBGE'!$C$5='QuUr-IBGE'!$G$5,'QuUr-IBGE'!C9,IF('QuUr-IBGE'!$D$5='QuUr-IBGE'!$G$5,'QuUr-IBGE'!D9,IF('QuUr-IBGE'!$E$5='QuUr-IBGE'!$G$5,'QuUr-IBGE'!E9,'QuUr-IBGE'!F9))) -> 2339.1895 | E8: =IF('Cr-COPEL'!$C$3='Cr-COPEL'!$G$3,'Cr-COPEL'!C8,IF('Cr-COPEL'!$D$3='Cr-COPEL'!$G$3,'Cr-COPEL'!D8,IF('Cr-COPEL'!$E$3='Cr-COPEL'!$G$3,'Cr-COPEL'!E8,'Cr-COPEL'!F8))) -> -0.0020879277 | F8: =IF('QuUr-COPEL'!$C$5='QuUr-COPEL'!$G$5,'QuUr-COPEL'!C9,IF('QuUr-COPEL'!$D$5='QuUr-COPEL'!$G$5,'QuUr-COPEL'!D9,IF('QuUr-COPEL'!$E$5='QuUr-COPEL'!$G$5,'QuUr-COPEL'!E9,'QuUr-COPEL'!F9))) -> 1912.2683 | G8: =IF('Cr-SANEPAR'!$C$3='Cr-SANEPAR'!$G$3,'Cr-SANEPAR'!C8,IF('Cr-SANEPAR'!$D$3='Cr-SANEPAR'!$G$3,'Cr-SANEPAR'!D8,IF('Cr-SANEPAR'!$E$3='Cr-SANEPAR'!$G$3,'Cr-SANEPAR'!E8,'Cr-SANEPAR'!F8))) -> -0.0017183897 | H8: =IF('QuUr-SANEPAR'!C8='QuUr-SANEPAR'!G8,'QuUr-SANEPAR'!C9,IF('QuUr-SANEPAR'!D8='QuUr-SANEPAR'!G8,'QuUr-SANEPAR'!D9,IF('QuUr-SANEPAR'!E8='QuUr-SANEPAR'!G8,'QuUr-SANEPAR'!E9,'QuUr-SANEPAR'!F9))) -> 2076.5787 | I8: =C8 -> 0.0026819017 | J8: =J7+(J7*I8) -> 2339.1726
B9: 2012 | C9: =IF('Cr-IBGE'!$C$3='Cr-IBGE'!$G$3,'Cr-IBGE'!C9,IF('Cr-IBGE'!$D$3='Cr-IBGE'!$G$3,'Cr-IBGE'!D9,IF('Cr-IBGE'!$E$3='Cr-IBGE'!$G$3,'Cr-IBGE'!E9,'Cr-IBGE'!F9))) -> 0.0026747283 | D9: =IF('QuUr-IBGE'!$C$5='QuUr-IBGE'!$G$5,'QuUr-IBGE'!C10,IF('QuUr-IBGE'!$D$5='QuUr-IBGE'!$G$5,'QuUr-IBGE'!D10,IF('QuUr-IBGE'!$E$5='QuUr-IBGE'!$G$5,'QuUr-IBGE'!E10,'QuUr-IBGE'!F10))) -> 2345.4629 | E9: =IF('Cr-COPEL'!$C$3='Cr-COPEL'!$G$3,'Cr-COPEL'!C9,IF('Cr-COPEL'!$D$3='Cr-COPEL'!$G$3,'Cr-COPEL'!D9,IF('Cr-COPEL'!$E$3='Cr-COPEL'!$G$3,'Cr-COPEL'!E9,'Cr-COPEL'!F9))) -> -0.0020879277 | F9: =IF('QuUr-COPEL'!$C$5='QuUr-COPEL'!$G$5,'QuUr-COPEL'!C10,IF('QuUr-COPEL'!$D$5='QuUr-COPEL'!$G$5,'QuUr-COPEL'!D10,IF('QuUr-COPEL'!$E$5='QuUr-COPEL'!$G$5,'QuUr-COPEL'!E10,'QuUr-COPEL'!F10))) -> 1908.2756 | G9: =IF('Cr-SANEPAR'!$C$3='Cr-SANEPAR'!$G$3,'Cr-SANEPAR'!C9,IF('Cr-SANEPAR'!$D$3='Cr-SANEPAR'!$G$3,'Cr-SANEPAR'!D9,IF('Cr-SANEPAR'!$E$3='Cr-SANEPAR'!$G$3,'Cr-SANEPAR'!E9,'Cr-SANEPAR'!F9))) -> -0.0017213476 | H9: =IF('QuUr-SANEPAR'!C9='QuUr-SANEPAR'!G9,'QuUr-SANEPAR'!C10,IF('QuUr-SANEPAR'!D9='QuUr-SANEPAR'!G9,'QuUr-SANEPAR'!D10,IF('QuUr-SANEPAR'!E9='QuUr-SANEPAR'!G9,'QuUr-SANEPAR'!E10,'QuUr-SANEPAR'!F10))) -> 2073.1199 | I9: =C9 -> 0.0026747283 | J9: =J8+(J8*I9) -> 2345.4293
B10: 2013 | C10: =IF('Cr-IBGE'!$C$3='Cr-IBGE'!$G$3,'Cr-IBGE'!C10,IF('Cr-IBGE'!$D$3='Cr-IBGE'!$G$3,'Cr-IBGE'!D10,IF('Cr-IBGE'!$E$3='Cr-IBGE'!$G$3,'Cr-IBGE'!E10,'Cr-IBGE'!F10))) -> 0.0026675932 | D10: =IF('QuUr-IBGE'!$C$5='QuUr-IBGE'!$G$5,'QuUr-IBGE'!C11,IF('QuUr-IBGE'!$D$5='QuUr-IBGE'!$G$5,'QuUr-IBGE'!D11,IF('QuUr-IBGE'!$E$5='QuUr-IBGE'!$G$5,'QuUr-IBGE'!E11,'QuUr-IBGE'!F11))) -> 2351.7364 | E10: =IF('Cr-COPEL'!$C$3='Cr-COPEL'!$G$3,'Cr-COPEL'!C10,IF('Cr-COPEL'!$D$3='Cr-COPEL'!$G$3,'Cr-COPEL'!D10,IF('Cr-COPEL'!$E$3='Cr-COPEL'!$G$3,'Cr-COPEL'!E10,'Cr-COPEL'!F10))) -> -0.0020879277 | F10: =IF('QuUr-COPEL'!$C$5='QuUr-COPEL'!$G$5,'QuUr-COPEL'!C11,IF('QuUr-COPEL'!$D$5='QuUr-COPEL'!$G$5,'QuUr-COPEL'!D11,IF('QuUr-COPEL'!$E$5='QuUr-COPEL'!$G$5,'QuUr-COPEL'!E11,'QuUr-COPEL'!F11))) -> 1904.2912 | G10: =IF('Cr-SANEPAR'!$C$3='Cr-SANEPAR'!$G$3,'Cr-SANEPAR'!C10,IF('Cr-SANEPAR'!$D$3='Cr-SANEPAR'!$G$3,'Cr-SANEPAR'!D10,IF('Cr-SANEPAR'!$E$3='Cr-SANEPAR'!$G$3,'Cr-SANEPAR'!E10,'Cr-SANEPAR'!F10))) -> -0.0017243158 | H10: =IF('QuUr-SANEPAR'!C10='QuUr-SANEPAR'!G10,'QuUr-SANEPAR'!C11,IF('QuUr-SANEPAR'!D10='QuUr-SANEPAR'!G10,'QuUr-SANEPAR'!D11,IF('QuUr-SANEPAR'!E10='QuUr-SANEPAR'!G10,'QuUr-SANEPAR'!E11,'QuUr-SANEPAR'!F11))) -> 2069.6685 | I10: =C10 -> 0.0026675932 | J10: =J9+(J9*I10) -> 2351.6859
B11: 2014 | C11: =IF('Cr-IBGE'!$C$3='Cr-IBGE'!$G$3,'Cr-IBGE'!C11,IF('Cr-IBGE'!$D$3='Cr-IBGE'!$G$3,'Cr-IBGE'!D11,IF('Cr-IBGE'!$E$3='Cr-IBGE'!$G$3,'Cr-IBGE'!E11,'Cr-IBGE'!F11))) -> 0.0026604961 | D11: =IF('QuUr-IBGE'!$C$5='QuUr-IBGE'!$G$5,'QuUr-IBGE'!C12,IF('QuUr-IBGE'!$D$5='QuUr-IBGE'!$G$5,'QuUr-IBGE'!D12,IF('QuUr-IBGE'!$E$5='QuUr-IBGE'!$G$5,'QuUr-IBGE'!E12,'QuUr-IBGE'!F12))) -> 2358.0099 | E11: =IF('Cr-COPEL'!$C$3='Cr-COPEL'!$G$3,'Cr-COPEL'!C11,IF('Cr-COPEL'!$D$3='Cr-COPEL'!$G$3,'Cr-COPEL'!D11,IF('Cr-COPEL'!$E$3='Cr-COPEL'!$G$3,'Cr-COPEL'!E11,'Cr-COPEL'!F11))) -> -0.0020879277 | F11: =IF('QuUr-COPEL'!$C$5='QuUr-COPEL'!$G$5,'QuUr-COPEL'!C12,IF('QuUr-COPEL'!$D$5='QuUr-COPEL'!$G$5,'QuUr-COPEL'!D12,IF('QuUr-COPEL'!$E$5='QuUr-COPEL'!$G$5,'QuUr-COPEL'!E12,'QuUr-COPEL'!F12))) -> 1900.3152 | G11: =IF('Cr-SANEPAR'!$C$3='Cr-SANEPAR'!$G$3,'Cr-SANEPAR'!C11,IF('Cr-SANEPAR'!$D$3='Cr-SANEPAR'!$G$3,'Cr-SANEPAR'!D11,IF('Cr-SANEPAR'!$E$3='Cr-SANEPAR'!$G$3,'Cr-SANEPAR'!E11,'Cr-SANEPAR'!F11))) -> -0.0017272942 | H11: =IF('QuUr-SANEPAR'!C11='QuUr-SANEPAR'!G11,'QuUr-SANEPAR'!C12,IF('QuUr-SANEPAR'!D11='QuUr-SANEPAR'!G11,'QuUr-SANEPAR'!D12,IF('QuUr-SANEPAR'!E11='QuUr-SANEPAR'!G11,'QuUr-SANEPAR'!E12,'QuUr-SANEPAR'!F12))) -> 2066.2245 | I11: =C11 -> 0.0026604961 | J11: =J10+(J10*I11) -> 2357.9426
B12: 2015 | C12: =IF('Cr-IBGE'!$C$3='Cr-IBGE'!$G$3,'Cr-IBGE'!C12,IF('Cr-IBGE'!$D$3='Cr-IBGE'!$G$3,'Cr-IBGE'!D12,IF('Cr-IBGE'!$E$3='Cr-IBGE'!$G$3,'Cr-IBGE'!E12,'Cr-IBGE'!F12))) -> 0.0026534366 | D12: =IF('QuUr-IBGE'!$C$5='QuUr-IBGE'!$G$5,'QuUr-IBGE'!C13,IF('QuUr-IBGE'!$D$5='QuUr-IBGE'!$G$5,'QuUr-IBGE'!D13,IF('QuUr-IBGE'!$E$5='QuUr-IBGE'!$G$5,'QuUr-IBGE'!E13,'QuUr-IBGE'!F13))) -> 2364.2834 | E12: =IF('Cr-COPEL'!$C$3='Cr-COPEL'!$G$3,'Cr-COPEL'!C12,IF('Cr-COPEL'!$D$3='Cr-COPEL'!$G$3,'Cr-COPEL'!D12,IF('Cr-COPEL'!$E$3='Cr-COPEL'!$G$3,'Cr-COPEL'!E12,'Cr-COPEL'!F12))) -> -0.0020879277 | F12: =IF('QuUr-COPEL'!$C$5='QuUr-COPEL'!$G$5,'QuUr-COPEL'!C13,IF('QuUr-COPEL'!$D$5='QuUr-COPEL'!$G$5,'QuUr-COPEL'!D13,IF('QuUr-COPEL'!$E$5='QuUr-COPEL'!$G$5,'QuUr-COPEL'!E13,'QuUr-COPEL'!F13))) -> 1896.3475 | G12: =IF('Cr-SANEPAR'!$C$3='Cr-SANEPAR'!$G$3,'Cr-SANEPAR'!C12,IF('Cr-SANEPAR'!$D$3='Cr-SANEPAR'!$G$3,'Cr-SANEPAR'!D12,IF('Cr-SANEPAR'!$E$3='Cr-SANEPAR'!$G$3,'Cr-SANEPAR'!E12,'Cr-SANEPAR'!F12))) -> -0.0017302829 | H12: =IF('QuUr-SANEPAR'!C12='QuUr-SANEPAR'!G12,'QuUr-SANEPAR'!C13,IF('QuUr-SANEPAR'!D12='QuUr-SANEPAR'!G12,'QuUr-SANEPAR'!D13,IF('QuUr-SANEPAR'!E12='QuUr-SANEPAR'!G12,'QuUr-SANEPAR'!E13,'QuUr-SANEPAR'!F13))) -> 2062.788 | I12: =C12 -> 0.0026534366 | J12: =J11+(J11*I12) -> 2364.1992
B13: 2016 | C13: =IF('Cr-IBGE'!$C$3='Cr-IBGE'!$G$3,'Cr-IBGE'!C13,IF('Cr-IBGE'!$D$3='Cr-IBGE'!$G$3,'Cr-IBGE'!D13,IF('Cr-IBGE'!$E$3='Cr-IBGE'!$G$3,'Cr-IBGE'!E13,'Cr-IBGE'!F13))) -> 0.0026464146 | D13: =IF('QuUr-IBGE'!$C$5='QuUr-IBGE'!$G$5,'QuUr-IBGE'!C14,IF('QuUr-IBGE'!$D$5='QuUr-IBGE'!$G$5,'QuUr-IBGE'!D14,IF('QuUr-IBGE'!$E$5='QuUr-IBGE'!$G$5,'QuUr-IBGE'!E14,'QuUr-IBGE'!F14))) -> 2370.5568 | E13: =IF('Cr-COPEL'!$C$3='Cr-COPEL'!$G$3,'Cr-COPEL'!C13,IF('Cr-COPEL'!$D$3='Cr-COPEL'!$G$3,'Cr-COPEL'!D13,IF('Cr-COPEL'!$E$3='Cr-COPEL'!$G$3,'Cr-COPEL'!E13,'Cr-COPEL'!F13))) -> -0.0020879277 | F13: =IF('QuUr-COPEL'!$C$5='QuUr-COPEL'!$G$5,'QuUr-COPEL'!C14,IF('QuUr-COPEL'!$D$5='QuUr-COPEL'!$G$5,'QuUr-COPEL'!D14,IF('QuUr-COPEL'!$E$5='QuUr-COPEL'!$G$5,'QuUr-COPEL'!E14,'QuUr-COPEL'!F14))) -> 1892.3881 | G13: =IF('Cr-SANEPAR'!$C$3='Cr-SANEPAR'!$G$3,'Cr-SANEPAR'!C13,IF('Cr-SANEPAR'!$D$3='Cr-SANEPAR'!$G$3,'Cr-SANEPAR'!D13,IF('Cr-SANEPAR'!$E$3='Cr-SANEPAR'!$G$3,'Cr-SANEPAR'!E13,'Cr-SANEPAR'!F13))) -> -0.0017332819 | H13: =IF('QuUr-SANEPAR'!C13='QuUr-SANEPAR'!G13,'QuUr-SANEPAR'!C14,IF('QuUr-SANEPAR'!D13='QuUr-SANEPAR'!G13,'QuUr-SANEPAR'!D14,IF('QuUr-SANEPAR'!E13='QuUr-SANEPAR'!G13,'QuUr-SANEPAR'!E14,'QuUr-SANEPAR'!F14))) -> 2059.359 | I13: =C13 -> 0.0026464146 | J13: =J12+(J12*I13) -> 2370.4559
B14: 2017 | C14: =IF('Cr-IBGE'!$C$3='Cr-IBGE'!$G$3,'Cr-IBGE'!C14,IF('Cr-IBGE'!$D$3='Cr-IBGE'!$G$3,'Cr-IBGE'!D14,IF('Cr-IBGE'!$E$3='Cr-IBGE'!$G$3,'Cr-IBGE'!E14,'Cr-IBGE'!F14))) -> 0.0026394295 | D14: =IF('QuUr-IBGE'!$C$5='QuUr-IBGE'!$G$5,'QuUr-IBGE'!C15,IF('QuUr-IBGE'!$D$5='QuUr-IBGE'!$G$5,'QuUr-IBGE'!D15,IF('QuUr-IBGE'!$E$5='QuUr-IBGE'!$G$5,'QuUr-IBGE'!E15,'QuUr-IBGE'!F15))) -> 2376.8303 | E14: =IF('Cr-COPEL'!$C$3='Cr-COPEL'!$G$3,'Cr-COPEL'!C14,IF('Cr-COPEL'!$D$3='Cr-COPEL'!$G$3,'Cr-COPEL'!D14,IF('Cr-COPEL'!$E$3='Cr-COPEL'!$G$3,'Cr-COPEL'!E14,'Cr-COPEL'!F14))) -> -0.0020879277 | F14: =IF('QuUr-COPEL'!$C$5='QuUr-COPEL'!$G$5,'QuUr-COPEL'!C15,IF('QuUr-COPEL'!$D$5='QuUr-COPEL'!$G$5,'QuUr-COPEL'!D15,IF('QuUr-COPEL'!$E$5='QuUr-COPEL'!$G$5,'QuUr-COPEL'!E15,'QuUr-COPEL'!F15))) -> 1888.4369 | G14: =IF('Cr-SANEPAR'!$C$3='Cr-SANEPAR'!$G$3,'Cr-SANEPAR'!C14,IF('Cr-SANEPAR'!$D$3='Cr-SANEPAR'!$G$3,'Cr-SANEPAR'!D14,IF('Cr-SANEPAR'!$E$3='Cr-SANEPAR'!$G$3,'Cr-SANEPAR'!E14,'Cr-SANEPAR'!F14))) -> -0.0017362914 | H14: =IF('QuUr-SANEPAR'!C14='QuUr-SANEPAR'!G14,'QuUr-SANEPAR'!C15,IF('QuUr-SANEPAR'!D14='QuUr-SANEPAR'!G14,'QuUr-SANEPAR'!D15,IF('QuUr-SANEPAR'!E14='QuUr-SANEPAR'!G14,'QuUr-SANEPAR'!E15,'QuUr-SANEPAR'!F15))) -> 2055.9373 | I14: =C14 -> 0.0026394295 | J14: =J13+(J13*I14) -> 2376.7125
B15: 2018 | C15: =IF('Cr-IBGE'!$C$3='Cr-IBGE'!$G$3,'Cr-IBGE'!C15,IF('Cr-IBGE'!$D$3='Cr-IBGE'!$G$3,'Cr-IBGE'!D15,IF('Cr-IBGE'!$E$3='Cr-IBGE'!$G$3,'Cr-IBGE'!E15,'Cr-IBGE'!F15))) -> 0.0026324813 | D15: =IF('QuUr-IBGE'!$C$5='QuUr-IBGE'!$G$5,'QuUr-IBGE'!C16,IF('QuUr-IBGE'!$D$5='QuUr-IBGE'!$G$5,'QuUr-IBGE'!D16,IF('QuUr-IBGE'!$E$5='QuUr-IBGE'!$G$5,'QuUr-IBGE'!E16,'QuUr-IBGE'!F16))) -> 2383.1038 | E15: =IF('Cr-COPEL'!$C$3='Cr-COPEL'!$G$3,'Cr-COPEL'!C15,IF('Cr-COPEL'!$D$3='Cr-COPEL'!$G$3,'Cr-COPEL'!D15,IF('Cr-COPEL'!$E$3='Cr-COPEL'!$G$3,'Cr-COPEL'!E15,'Cr-COPEL'!F15))) -> -0.0020879277 | F15: =IF('QuUr-COPEL'!$C$5='QuUr-COPEL'!$G$5,'QuUr-COPEL'!C16,IF('QuUr-COPEL'!$D$5='QuUr-COPEL'!$G$5,'QuUr-COPEL'!D16,IF('QuUr-COPEL'!$E$5='QuUr-COPEL'!$G$5,'QuUr-COPEL'!E16,'QuUr-COPEL'!F16))) -> 1884.494 | G15: =IF('Cr-SANEPAR'!$C$3='Cr-SANEPAR'!$G$3,'Cr-SANEPAR'!C15,IF('Cr-SANEPAR'!$D$3='Cr-SANEPAR'!$G$3,'Cr-SANEPAR'!D15,IF('Cr-SANEPAR'!$E$3='Cr-SANEPAR'!$G$3,'Cr-SANEPAR'!E15,'Cr-SANEPAR'!F15))) -> -0.0017393114 | H15: =IF('QuUr-SANEPAR'!C15='QuUr-SANEPAR'!G15,'QuUr-SANEPAR'!C16,IF('QuUr-SANEPAR'!D15='QuUr-SANEPAR'!G15,'QuUr-SANEPAR'!D16,IF('QuUr-SANEPAR'!E15='QuUr-SANEPAR'!G15,'QuUr-SANEPAR'!E16,'QuUr-SANEPAR'!F16))) -> 2052.523 | I15: =C15 -> 0.0026324813 | J15: =J14+(J14*I15) -> 2382.9692
B16: 2019 | C16: =IF('Cr-IBGE'!$C$3='Cr-IBGE'!$G$3,'Cr-IBGE'!C16,IF('Cr-IBGE'!$D$3='Cr-IBGE'!$G$3,'Cr-IBGE'!D16,IF('Cr-IBGE'!$E$3='Cr-IBGE'!$G$3,'Cr-IBGE'!E16,'Cr-IBGE'!F16))) -> 0.0026255695 | D16: =IF('QuUr-IBGE'!$C$5='QuUr-IBGE'!$G$5,'QuUr-IBGE'!C17,IF('QuUr-IBGE'!$D$5='QuUr-IBGE'!$G$5,'QuUr-IBGE'!D17,IF('QuUr-IBGE'!$E$5='QuUr-IBGE'!$G$5,'QuUr-IBGE'!E17,'QuUr-IBGE'!F17))) -> 2389.3773 | E16: =IF('Cr-COPEL'!$C$3='Cr-COPEL'!$G$3,'Cr-COPEL'!C16,IF('Cr-COPEL'!$D$3='Cr-COPEL'!$G$3,'Cr-COPEL'!D16,IF('Cr-COPEL'!$E$3='Cr-COPEL'!$G$3,'Cr-COPEL'!E16,'Cr-COPEL'!F16))) -> -0.0020879277 | F16: =IF('QuUr-COPEL'!$C$5='QuUr-COPEL'!$G$5,'QuUr-COPEL'!C17,IF('QuUr-COPEL'!$D$5='QuUr-COPEL'!$G$5,'QuUr-COPEL'!D17,IF('QuUr-COPEL'!$E$5='QuUr-COPEL'!$G$5,'QuUr-COPEL'!E17,'QuUr-COPEL'!F17))) -> 1880.5593 | G16: =IF('Cr-SANEPAR'!$C$3='Cr-SANEPAR'!$G$3,'Cr-SANEPAR'!C16,IF('Cr-SANEPAR'!$D$3='Cr-SANEPAR'!$G$3,'Cr-SANEPAR'!D16,IF('Cr-SANEPAR'!$E$3='Cr-SANEPAR'!$G$3,'Cr-SANEPAR'!E16,'Cr-SANEPAR'!F16))) -> -0.0017423419 | H16: =IF('QuUr-SANEPAR'!C16='QuUr-SANEPAR'!G16,'QuUr-SANEPAR'!C17,IF('QuUr-SANEPAR'!D16='QuUr-SANEPAR'!G16,'QuUr-SANEPAR'!D17,IF('QuUr-SANEPAR'!E16='QuUr-SANEPAR'!G16,'QuUr-SANEPAR'!E17,'QuUr-SANEPAR'!F17))) -> 2049.116 | I16: =C16 -> 0.0026255695 | J16: =J15+(J15*I16) -> 2389.2258
B17: 2020 | C17: =IF('Cr-IBGE'!$C$3='Cr-IBGE'!$G$3,'Cr-IBGE'!C17,IF('Cr-IBGE'!$D$3='Cr-IBGE'!$G$3,'Cr-IBGE'!D17,IF('Cr-IBGE'!$E$3='Cr-IBGE'!$G$3,'Cr-IBGE'!E17,'Cr-IBGE'!F17))) -> 0.002618694 | D17: =IF('QuUr-IBGE'!$C$5='QuUr-IBGE'!$G$5,'QuUr-IBGE'!C18,IF('QuUr-IBGE'!$D$5='QuUr-IBGE'!$G$5,'QuUr-IBGE'!D18,IF('QuUr-IBGE'!$E$5='QuUr-IBGE'!$G$5,'QuUr-IBGE'!E18,'QuUr-IBGE'!F18))) -> 2395.6507 | E17: =IF('Cr-COPEL'!$C$3='Cr-COPEL'!$G$3,'Cr-COPEL'!C17,IF('Cr-COPEL'!$D$3='Cr-COPEL'!$G$3,'Cr-COPEL'!D17,IF('Cr-COPEL'!$E$3='Cr-COPEL'!$G$3,'Cr-COPEL'!E17,'Cr-COPEL'!F17))) -> -0.0020879277 | F17: =IF('QuUr-COPEL'!$C$5='QuUr-COPEL'!$G$5,'QuUr-COPEL'!C18,IF('QuUr-COPEL'!$D$5='QuUr-COPEL'!$G$5,'QuUr-COPEL'!D18,IF('QuUr-COPEL'!$E$5='QuUr-COPEL'!$G$5,'QuUr-COPEL'!E18,'QuUr-COPEL'!F18))) -> 1876.6328 | G17: =IF('Cr-SANEPAR'!$C$3='Cr-SANEPAR'!$G$3,'Cr-SANEPAR'!C17,IF('Cr-SANEPAR'!$D$3='Cr-SANEPAR'!$G$3,'Cr-SANEPAR'!D17,IF('Cr-SANEPAR'!$E$3='Cr-SANEPAR'!$G$3,'Cr-SANEPAR'!E17,'Cr-SANEPAR'!F17))) -> -0.0017453829 | H17: =IF('QuUr-SANEPAR'!C17='QuUr-SANEPAR'!G17,'QuUr-SANEPAR'!C18,IF('QuUr-SANEPAR'!D17='QuUr-SANEPAR'!G17,'QuUr-SANEPAR'!D18,IF('QuUr-SANEPAR'!E17='QuUr-SANEPAR'!G17,'QuUr-SANEPAR'!E18,'QuUr-SANEPAR'!F18))) -> 2045.7164 | I17: =C17 -> 0.002618694 | J17: =J16+(J16*I17) -> 2395.4825
B18: 2021 | C18: =IF('Cr-IBGE'!$C$3='Cr-IBGE'!$G$3,'Cr-IBGE'!C18,IF('Cr-IBGE'!$D$3='Cr-IBGE'!$G$3,'Cr-IBGE'!D18,IF('Cr-IBGE'!$E$3='Cr-IBGE'!$G$3,'Cr-IBGE'!E18,'Cr-IBGE'!F18))) -> 0.0026118543 | D18: =IF('QuUr-IBGE'!$C$5='QuUr-IBGE'!$G$5,'QuUr-IBGE'!C19,IF('QuUr-IBGE'!$D$5='QuUr-IBGE'!$G$5,'QuUr-IBGE'!D19,IF('QuUr-IBGE'!$E$5='QuUr-IBGE'!$G$5,'QuUr-IBGE'!E19,'QuUr-IBGE'!F19))) -> 2401.9242 | E18: =IF('Cr-COPEL'!$C$3='Cr-COPEL'!$G$3,'Cr-COPEL'!C18,IF('Cr-COPEL'!$D$3='Cr-COPEL'!$G$3,'Cr-COPEL'!D18,IF('Cr-COPEL'!$E$3='Cr-COPEL'!$G$3,'Cr-COPEL'!E18,'Cr-COPEL'!F18))) -> -0.0020879277 | F18: =IF('QuUr-COPEL'!$C$5='QuUr-COPEL'!$G$5,'QuUr-COPEL'!C19,IF('QuUr-COPEL'!$D$5='QuUr-COPEL'!$G$5,'QuUr-COPEL'!D19,IF('QuUr-COPEL'!$E$5='QuUr-COPEL'!$G$5,'QuUr-COPEL'!E19,'QuUr-COPEL'!F19))) -> 1872.7145 | G18: =IF('Cr-SANEPAR'!$C$3='Cr-SANEPAR'!$G$3,'Cr-SANEPAR'!C18,IF('Cr-SANEPAR'!$D$3='Cr-SANEPAR'!$G$3,'Cr-SANEPAR'!D18,IF('Cr-SANEPAR'!$E$3='Cr-SANEPAR'!$G$3,'Cr-SANEPAR'!E18,'Cr-SANEPAR'!F18))) -> -0.0017484346 | H18: =IF('QuUr-SANEPAR'!C18='QuUr-SANEPAR'!G18,'QuUr-SANEPAR'!C19,IF('QuUr-SANEPAR'!D18='QuUr-SANEPAR'!G18,'QuUr-SANEPAR'!D19,IF('QuUr-SANEPAR'!E18='QuUr-SANEPAR'!G18,'QuUr-SANEPAR'!E19,'QuUr-SANEPAR'!F19))) -> 2042.3241 | I18: =C18 -> 0.0026118543 | J18: =J17+(J17*I18) -> 2401.7391
B19: 2022 | C19: =IF('Cr-IBGE'!$C$3='Cr-IBGE'!$G$3,'Cr-IBGE'!C19,IF('Cr-IBGE'!$D$3='Cr-IBGE'!$G$3,'Cr-IBGE'!D19,IF('Cr-IBGE'!$E$3='Cr-IBGE'!$G$3,'Cr-IBGE'!E19,'Cr-IBGE'!F19))) -> 0.0026050503 | D19: =IF('QuUr-IBGE'!$C$5='QuUr-IBGE'!$G$5,'QuUr-IBGE'!C20,IF('QuUr-IBGE'!$D$5='QuUr-IBGE'!$G$5,'QuUr-IBGE'!D20,IF('QuUr-IBGE'!$E$5='QuUr-IBGE'!$G$5,'QuUr-IBGE'!E20,'QuUr-IBGE'!F20))) -> 2408.1977 | E19: =IF('Cr-COPEL'!$C$3='Cr-COPEL'!$G$3,'Cr-COPEL'!C19,IF('Cr-COPEL'!$D$3='Cr-COPEL'!$G$3,'Cr-COPEL'!D19,IF('Cr-COPEL'!$E$3='Cr-COPEL'!$G$3,'Cr-COPEL'!E19,'Cr-COPEL'!F19))) -> -0.0020879277 | F19: =IF('QuUr-COPEL'!$C$5='QuUr-COPEL'!$G$5,'QuUr-COPEL'!C20,IF('QuUr-COPEL'!$D$5='QuUr-COPEL'!$G$5,'QuUr-COPEL'!D20,IF('QuUr-COPEL'!$E$5='QuUr-COPEL'!$G$5,'QuUr-COPEL'!E20,'QuUr-COPEL'!F20))) -> 1868.8045 | G19: =IF('Cr-SANEPAR'!$C$3='Cr-SANEPAR'!$G$3,'Cr-SANEPAR'!C19,IF('Cr-SANEPAR'!$D$3='Cr-SANEPAR'!$G$3,'Cr-SANEPAR'!D19,IF('Cr-SANEPAR'!$E$3='Cr-SANEPAR'!$G$3,'Cr-SANEPAR'!E19,'Cr-SANEPAR'!F19))) -> -0.001751497 | H19: =IF('QuUr-SANEPAR'!C19='QuUr-SANEPAR'!G19,'QuUr-SANEPAR'!C20,IF('QuUr-SANEPAR'!D19='QuUr-SANEPAR'!G19,'QuUr-SANEPAR'!D20,IF('QuUr-SANEPAR'!E19='QuUr-SANEPAR'!G19,'QuUr-SANEPAR'!E20,'QuUr-SANEPAR'!F20))) -> 2038.9391 | I19: =C19 -> 0.0026050503 | J19: =J18+(J18*I19) -> 2407.9958
... B32: 2035 | C32: =IF('Cr-IBGE'!$C$3='Cr-IBGE'!$G$3,'Cr-IBGE'!C32,IF('Cr-IBGE'!$D$3='Cr-IBGE'!$G$3,'Cr-IBGE'!D32,IF('Cr-IBGE'!$E$3='Cr-IBGE'!$G$3,'Cr-IBGE'!E32,'Cr-IBGE'!F32))) -> 0.0025197184 | D32: =IF('QuUr-IBGE'!$C$5='QuUr-IBGE'!$G$5,'QuUr-IBGE'!C33,IF('QuUr-IBGE'!$D$5='QuUr-IBGE'!$G$5,'QuUr-IBGE'!D33,IF('QuUr-IBGE'!$E$5='QuUr-IBGE'!$G$5,'QuUr-IBGE'!E33,'QuUr-IBGE'!F33))) -> 2489.7529 | E32: =IF('Cr-COPEL'!$C$3='Cr-COPEL'!$G$3,'Cr-COPEL'!C32,IF('Cr-COPEL'!$D$3='Cr-COPEL'!$G$3,'Cr-COPEL'!D32,IF('Cr-COPEL'!$E$3='Cr-COPEL'!$G$3,'Cr-COPEL'!E32,'Cr-COPEL'!F32))) -> -0.0020879277 | F32: =IF('QuUr-COPEL'!$C$5='QuUr-COPEL'!$G$5,'QuUr-COPEL'!C33,IF('QuUr-COPEL'!$D$5='QuUr-COPEL'!$G$5,'QuUr-COPEL'!D33,IF('QuUr-COPEL'!$E$5='QuUr-COPEL'!$G$5,'QuUr-COPEL'!E33,'QuUr-COPEL'!F33))) -> 1818.71 | G32: =IF('Cr-SANEPAR'!$C$3='Cr-SANEPAR'!$G$3,'Cr-SANEPAR'!C32,IF('Cr-SANEPAR'!$D$3='Cr-SANEPAR'!$G$3,'Cr-SANEPAR'!D32,IF('Cr-SANEPAR'!$E$3='Cr-SANEPAR'!$G$3,'Cr-SANEPAR'!E32,'Cr-SANEPAR'!F32))) -> -0.0017923068 | H32: =IF('QuUr-SANEPAR'!C32='QuUr-SANEPAR'!G32,'QuUr-SANEPAR'!C33,IF('QuUr-SANEPAR'!D32='QuUr-SANEPAR'!G32,'QuUr-SANEPAR'!D33,IF('QuUr-SANEPAR'!E32='QuUr-SANEPAR'!G32,'QuUr-SANEPAR'!E33,'QuUr-SANEPAR'!F33))) -> 1995.5897 | I32: =C32 -> 0.0025197184 | J32: =J31+(J31*I32) -> 2489.3323
